BEGIN:VCALENDAR
VERSION:2.0
PRODID:-//Brescia Giovani - ECPv6.15.17.1//NONSGML v1.0//EN
CALSCALE:GREGORIAN
METHOD:PUBLISH
X-ORIGINAL-URL:https://bresciagiovani.it
X-WR-CALDESC:Eventi per Brescia Giovani
REFRESH-INTERVAL;VALUE=DURATION:PT1H
X-Robots-Tag:noindex
X-PUBLISHED-TTL:PT1H
BEGIN:VTIMEZONE
TZID:Europe/Rome
BEGIN:DAYLIGHT
TZOFFSETFROM:+0100
TZOFFSETTO:+0200
TZNAME:CEST
DTSTART:20240331T010000
END:DAYLIGHT
BEGIN:STANDARD
TZOFFSETFROM:+0200
TZOFFSETTO:+0100
TZNAME:CET
DTSTART:20241027T010000
END:STANDARD
BEGIN:DAYLIGHT
TZOFFSETFROM:+0100
TZOFFSETTO:+0200
TZNAME:CEST
DTSTART:20250330T010000
END:DAYLIGHT
BEGIN:STANDARD
TZOFFSETFROM:+0200
TZOFFSETTO:+0100
TZNAME:CET
DTSTART:20251026T010000
END:STANDARD
BEGIN:DAYLIGHT
TZOFFSETFROM:+0100
TZOFFSETTO:+0200
TZNAME:CEST
DTSTART:20260329T010000
END:DAYLIGHT
BEGIN:STANDARD
TZOFFSETFROM:+0200
TZOFFSETTO:+0100
TZNAME:CET
DTSTART:20261025T010000
END:STANDARD
END:VTIMEZONE
BEGIN:VEVENT
DTSTART;TZID=Europe/Rome:20251019T090000
DTEND;TZID=Europe/Rome:20251019T140000
DTSTAMP:20260420T074130
CREATED:20250926T141839Z
LAST-MODIFIED:20250926T141839Z
UID:10000423-1760864400-1760882400@bresciagiovani.it
SUMMARY:STRAMrun
DESCRIPTION:Alla vigilia dell’avvio dei lavori della futura linea del tram elettrico Fiera – Pendolina\, la città di Brescia si prepara a un grande evento che unisce sport\, comunità e futuro sostenibile: la STRAMrun\, in programma domenica 19 ottobre 2025. \nSi tratta di una corsa/passeggiata non competitiva\, gratuita e aperta a tutti\, pensata per far vivere dal vivo il percorso del futuro tram e per rafforzare\, insieme\, una cultura di mobilità più sicura e rispettosa dell’ambiente. \nDue percorsi pensati per tutti: \n\nSTRAMrun 11\,3 km: partenza ore 9.00 dal Brixia Forum e arrivo al Parco delle Stagioni.\nSTRAMrun Easy 5\,2 km: partenza ore 9.00 da Largo Formentone\, arrivo al Parco delle Stagioni.\n\nDalle ore 10.00 alle 14.00\, al Parco delle Stagioni (ingresso via Collebeato)\, sarà allestito un grande spazio di festa e incontro per tutta la comunità\, lo STRAMrun Village: con ospiti sportivi e culturali bresciani che hanno scelto di diventare testimonial del Progetto Tram. \nInformazioni utili: \n\nIscrizione gratuita online a questo link: STRAMRUN Tickets\, Sun\, Oct 19\, 2025 at 9:00 AM | Eventbrite  o direttamente la mattina dell’evento (Brixia Forum e Largo Formentone).\nMaglietta ufficiale per tutti i partecipanti; sacco gara per i primi 2000 iscritti.\nServizio gratuito di custodia oggetti al Brixia Forum.\nNavette gratuite tra Brixia Forum e Centro Polivalente per tutta la giornata.\n\nLe associazioni sono una risorsa preziosa per la città: vi invitiamo a diffondere l’iniziativa e a vivere insieme a noi un momento di festa che parla di futuro e sostenibilità.
URL:https://bresciagiovani.it/evento/stramrun/
LOCATION:Frontpage
ATTACH;FMTTYPE=image/webp:https://bresciagiovani.it/wp-content/uploads/2025/12/unnamed-file.webp
END:VEVENT
END:VCALENDAR