BEGIN:VCALENDAR
VERSION:2.0
PRODID:-//Brescia Giovani - ECPv6.15.17.1//NONSGML v1.0//EN
CALSCALE:GREGORIAN
METHOD:PUBLISH
X-ORIGINAL-URL:https://bresciagiovani.it
X-WR-CALDESC:Eventi per Brescia Giovani
REFRESH-INTERVAL;VALUE=DURATION:PT1H
X-Robots-Tag:noindex
X-PUBLISHED-TTL:PT1H
BEGIN:VTIMEZONE
TZID:Europe/Rome
BEGIN:DAYLIGHT
TZOFFSETFROM:+0100
TZOFFSETTO:+0200
TZNAME:CEST
DTSTART:20240331T010000
END:DAYLIGHT
BEGIN:STANDARD
TZOFFSETFROM:+0200
TZOFFSETTO:+0100
TZNAME:CET
DTSTART:20241027T010000
END:STANDARD
BEGIN:DAYLIGHT
TZOFFSETFROM:+0100
TZOFFSETTO:+0200
TZNAME:CEST
DTSTART:20250330T010000
END:DAYLIGHT
BEGIN:STANDARD
TZOFFSETFROM:+0200
TZOFFSETTO:+0100
TZNAME:CET
DTSTART:20251026T010000
END:STANDARD
BEGIN:DAYLIGHT
TZOFFSETFROM:+0100
TZOFFSETTO:+0200
TZNAME:CEST
DTSTART:20260329T010000
END:DAYLIGHT
BEGIN:STANDARD
TZOFFSETFROM:+0200
TZOFFSETTO:+0100
TZNAME:CET
DTSTART:20261025T010000
END:STANDARD
END:VTIMEZONE
BEGIN:VEVENT
DTSTART;VALUE=DATE:20250701
DTEND;VALUE=DATE:20250703
DTSTAMP:20260422T135249
CREATED:20250610T134614Z
LAST-MODIFIED:20250610T134614Z
UID:10000418-1751342400-1751428799@bresciagiovani.it
SUMMARY:Gita sui campiani
DESCRIPTION:Goditi una semplice passeggiata immersa nella natura sulle colline “Campiani”\, alla ricerca di alcuni resti di postazioni militari della prima guerra mondiale\, accompagnati da una guida. \nMartedì 1 luglio \nDalle 15.00 alle 18.30 \nRitrovo Piastra Pendolina\, via ragazzi del ’99 n.5 \nProgramma: \n\nPartenza da Piastra Pendolina alle ore 15.00\nCamminata di circa 1h30 fino alle cime delle colline “Campiani” (circa 200m di dislivello positivo\, percorso totale 5km)\nMerenda in compagnia\nRientro in piastra per le 18.30\n\nCosa portare con sé: zaino con acqua\, cappello\, crema solare\, merenda\, scarpe e abbigliamento da camminata \nEscursione gratuita dedicata a giovani dai 13 ai 25 anni. \nIscrizioni entro mercoledì 25 giugno al seguente link \nIn caso di maltempo l’evento è rimandato a data da definire.
URL:https://bresciagiovani.it/evento/gita-sui-campiani/
LOCATION:Campiani\, Via Campiani\, Brescia\, BS\, Italia
ATTACH;FMTTYPE=image/avif:https://bresciagiovani.it/wp-content/uploads/2025/06/1-1.avif
ORGANIZER;CN="Piastra Pendolina":MAILTO:gabriele.angoscini@ilcalabrone.org
END:VEVENT
END:VCALENDAR