BEGIN:VCALENDAR
VERSION:2.0
PRODID:-//Brescia Giovani - ECPv6.15.17.1//NONSGML v1.0//EN
CALSCALE:GREGORIAN
METHOD:PUBLISH
X-ORIGINAL-URL:https://bresciagiovani.it
X-WR-CALDESC:Eventi per Brescia Giovani
REFRESH-INTERVAL;VALUE=DURATION:PT1H
X-Robots-Tag:noindex
X-PUBLISHED-TTL:PT1H
BEGIN:VTIMEZONE
TZID:Europe/Rome
BEGIN:DAYLIGHT
TZOFFSETFROM:+0100
TZOFFSETTO:+0200
TZNAME:CEST
DTSTART:20250330T010000
END:DAYLIGHT
BEGIN:STANDARD
TZOFFSETFROM:+0200
TZOFFSETTO:+0100
TZNAME:CET
DTSTART:20251026T010000
END:STANDARD
BEGIN:DAYLIGHT
TZOFFSETFROM:+0100
TZOFFSETTO:+0200
TZNAME:CEST
DTSTART:20260329T010000
END:DAYLIGHT
BEGIN:STANDARD
TZOFFSETFROM:+0200
TZOFFSETTO:+0100
TZNAME:CET
DTSTART:20261025T010000
END:STANDARD
BEGIN:DAYLIGHT
TZOFFSETFROM:+0100
TZOFFSETTO:+0200
TZNAME:CEST
DTSTART:20270328T010000
END:DAYLIGHT
BEGIN:STANDARD
TZOFFSETFROM:+0200
TZOFFSETTO:+0100
TZNAME:CET
DTSTART:20271031T010000
END:STANDARD
END:VTIMEZONE
BEGIN:VEVENT
DTSTART;TZID=Europe/Rome:20260305T183000
DTEND;TZID=Europe/Rome:20260305T203000
DTSTAMP:20260420T001621
CREATED:20250902T153124Z
LAST-MODIFIED:20260302T105013Z
UID:10000642-1772735400-1772742600@bresciagiovani.it
SUMMARY:Tandem Linguistici
DESCRIPTION:Inglese\, tedesco\, spagnolo e francese\, italiano: cinque lingue europee per cinque tavoli di conversazione! \nScegli la lingua in cui ti vuoi esercitare e prenota il tuo posto! \nIn collaborazione con ESN Brescia – Erasmus Student Network \nIscrizione gratuita su https://tandemlingue.eventbrite.it \nTi aspettiamo Giovedì 5 marzo dalle ore 18.30 \nI Tandem Linguistici sono appuntamenti gratuiti dedicati a giovani dai 14 ai 30 anni.
URL:https://bresciagiovani.it/evento/tandem-linguistici-3/
LOCATION:Informagiovani Brescia\, via Moretto 78\, Brescia\, BS\, 25122\, Italia
ATTACH;FMTTYPE=image/jpeg:https://bresciagiovani.it/wp-content/uploads/2025/09/tandem_generale.jpg
ORGANIZER;CN="Informagiovani Brescia":MAILTO:infogiovani@comune.brescia.it
GEO:45.5433769;10.2196859
X-APPLE-STRUCTURED-LOCATION;VALUE=URI;X-ADDRESS=Informagiovani Brescia via Moretto 78 Brescia BS 25122 Italia;X-APPLE-RADIUS=500;X-TITLE=via Moretto 78:geo:10.2196859,45.5433769
END:VEVENT
BEGIN:VEVENT
DTSTART;TZID=Europe/Rome:20260326T183000
DTEND;TZID=Europe/Rome:20260326T203000
DTSTAMP:20260420T001621
CREATED:20250214T110027Z
LAST-MODIFIED:20260302T105250Z
UID:10000627-1774549800-1774557000@bresciagiovani.it
SUMMARY:Aperitivi in English
DESCRIPTION:Cambia modo di allenare l’inglese: gioca\, metti alla prova le tue conoscenze e chiacchiera in buona compagnia\, con i ragazzi e le ragazze di ESN Brescia – Erasmus Student Network \nAdatto ad ogni livello di inglese!Evento dedicato a giovani dai 14 ai 30 anni. \nPer iscrizioni: https://www.eventbrite.it/e/biglietti-aperitivi-in-english-1616964346889?aff=erelexpmlt&_gl=1*yw57mg*_up*MQ..*_ga*MjA2ODgzNjQzOS4xNzU5NzM5MTE4*_ga_TQVES5V6SH*czE3NTk3MzkxMTgkbzEkZzAkdDE3NTk3MzkxMTgkajYwJGwwJGgw
URL:https://bresciagiovani.it/evento/aperitivi-in-english-3/
LOCATION:Informagiovani Brescia\, via Moretto 78\, Brescia\, BS\, 25122\, Italia
ATTACH;FMTTYPE=image/jpeg:https://bresciagiovani.it/wp-content/uploads/2025/12/ape_generale1.jpg
ORGANIZER;CN="Informagiovani Brescia":MAILTO:infogiovani@comune.brescia.it
GEO:45.5433769;10.2196859
X-APPLE-STRUCTURED-LOCATION;VALUE=URI;X-ADDRESS=Informagiovani Brescia via Moretto 78 Brescia BS 25122 Italia;X-APPLE-RADIUS=500;X-TITLE=via Moretto 78:geo:10.2196859,45.5433769
END:VEVENT
END:VCALENDAR