BEGIN:VCALENDAR
VERSION:2.0
PRODID:-//Brescia Giovani - ECPv6.15.17.1//NONSGML v1.0//EN
CALSCALE:GREGORIAN
METHOD:PUBLISH
X-WR-CALNAME:Brescia Giovani
X-ORIGINAL-URL:https://bresciagiovani.it
X-WR-CALDESC:Eventi per Brescia Giovani
REFRESH-INTERVAL;VALUE=DURATION:PT1H
X-Robots-Tag:noindex
X-PUBLISHED-TTL:PT1H
BEGIN:VTIMEZONE
TZID:Europe/Rome
BEGIN:DAYLIGHT
TZOFFSETFROM:+0100
TZOFFSETTO:+0200
TZNAME:CEST
DTSTART:20240331T010000
END:DAYLIGHT
BEGIN:STANDARD
TZOFFSETFROM:+0200
TZOFFSETTO:+0100
TZNAME:CET
DTSTART:20241027T010000
END:STANDARD
BEGIN:DAYLIGHT
TZOFFSETFROM:+0100
TZOFFSETTO:+0200
TZNAME:CEST
DTSTART:20250330T010000
END:DAYLIGHT
BEGIN:STANDARD
TZOFFSETFROM:+0200
TZOFFSETTO:+0100
TZNAME:CET
DTSTART:20251026T010000
END:STANDARD
BEGIN:DAYLIGHT
TZOFFSETFROM:+0100
TZOFFSETTO:+0200
TZNAME:CEST
DTSTART:20260329T010000
END:DAYLIGHT
BEGIN:STANDARD
TZOFFSETFROM:+0200
TZOFFSETTO:+0100
TZNAME:CET
DTSTART:20261025T010000
END:STANDARD
END:VTIMEZONE
BEGIN:VEVENT
DTSTART;TZID=Europe/Rome:20251014T140000
DTEND;TZID=Europe/Rome:20251014T200000
DTSTAMP:20260420T085928
CREATED:20251009T171829Z
LAST-MODIFIED:20251009T171829Z
UID:10000429-1760450400-1760472000@bresciagiovani.it
SUMMARY:Open day CoLab
DESCRIPTION:Martedì 14 ottobre dalle 14 alle 20\, ti aspettiamo all’Open-day dove potrai conoscere CoLab e le sue attività attraverso stand informativi\, spazi individuali di orientamento ai corsi ed eventi rivolti a giovani e meno giovani! \n  \nDalle 14.00 alle 20.00 saranno attivi diversi Stand dove potrai visitare e raccogliere materiale e informazioni\, in particolare: \n\nspazio informativo Giovani CoLab\nspazio informativo Familiari\nbancarella Utenti Attivi\ninfopoint attività CoLab\nspazio individuale di orientamento alle attività\npunto ristoro
URL:https://bresciagiovani.it/evento/open-day-colab/
LOCATION:CoLab Torre Cimabue\, Via Cimabue 18\, Brescia\, BS\, Italia
ATTACH;FMTTYPE=image/jpeg:https://bresciagiovani.it/wp-content/uploads/2025/12/colab.jpg
END:VEVENT
END:VCALENDAR