BEGIN:VCALENDAR
VERSION:2.0
PRODID:-//Brescia Giovani - ECPv6.15.17.1//NONSGML v1.0//EN
CALSCALE:GREGORIAN
METHOD:PUBLISH
X-ORIGINAL-URL:https://bresciagiovani.it
X-WR-CALDESC:Eventi per Brescia Giovani
REFRESH-INTERVAL;VALUE=DURATION:PT1H
X-Robots-Tag:noindex
X-PUBLISHED-TTL:PT1H
BEGIN:VTIMEZONE
TZID:Europe/Rome
BEGIN:DAYLIGHT
TZOFFSETFROM:+0100
TZOFFSETTO:+0200
TZNAME:CEST
DTSTART:20240331T010000
END:DAYLIGHT
BEGIN:STANDARD
TZOFFSETFROM:+0200
TZOFFSETTO:+0100
TZNAME:CET
DTSTART:20241027T010000
END:STANDARD
BEGIN:DAYLIGHT
TZOFFSETFROM:+0100
TZOFFSETTO:+0200
TZNAME:CEST
DTSTART:20250330T010000
END:DAYLIGHT
BEGIN:STANDARD
TZOFFSETFROM:+0200
TZOFFSETTO:+0100
TZNAME:CET
DTSTART:20251026T010000
END:STANDARD
BEGIN:DAYLIGHT
TZOFFSETFROM:+0100
TZOFFSETTO:+0200
TZNAME:CEST
DTSTART:20260329T010000
END:DAYLIGHT
BEGIN:STANDARD
TZOFFSETFROM:+0200
TZOFFSETTO:+0100
TZNAME:CET
DTSTART:20261025T010000
END:STANDARD
END:VTIMEZONE
BEGIN:VEVENT
DTSTART;VALUE=DATE:20250605
DTEND;VALUE=DATE:20250607
DTSTAMP:20260420T001647
CREATED:20250528T141659Z
LAST-MODIFIED:20250528T141659Z
UID:10000414-1749096000-1749182399@bresciagiovani.it
SUMMARY:Open Day IFTS Alfa Academy
DESCRIPTION:Un percorso della durata di 1 anno nato dalla collaborazione tra ITS Academy Machina Lonati e Alfa Acciai. Alfa Academy è un progetto che punta a formare persone giovani ( con meno di 25 anni)  in grado di occuparsi di installazione e manutenzione degli impianti di produzione e di lavorazione dell’acciaio. \nI partecipanti al corso IFTS – Addetto all’installazione e manutenzione di impianti industriali\, verranno assunti con contratti di apprendistato di primo livello per un anno con retribuzione mensile.  \n  \n\nGiovedì  5 giugno alle ore 14.30 presso la sede dell’azienda Alfa Acciai a Brescia (via S. Polo 152)\, si terrà un open day dedicato alla presentazione del percorso.\nPer partecipare all’evento occorre registrarsi tramite questo link.\n\n 
URL:https://bresciagiovani.it/evento/open-day-ifts-alfa-academy/
LOCATION:Lavoro
ATTACH;FMTTYPE=image/jpeg:https://bresciagiovani.it/wp-content/uploads/2025/05/AlfaAcciaiopenday-1.jpg
END:VEVENT
BEGIN:VEVENT
DTSTART;TZID=Europe/Rome:20250919T170000
DTEND;TZID=Europe/Rome:20250920T200000
DTSTAMP:20260420T001647
CREATED:20250916T152917Z
LAST-MODIFIED:20250916T152917Z
UID:10000645-1758301200-1758398400@bresciagiovani.it
SUMMARY:Open Day IFTS "Tecniche di installazione e manutenzione di impianti civili e industriali"
DESCRIPTION:Durante l’evento si potranno scoprire tutti i dettagli del percorso formativo\, nato dalla collaborazione tra TS Lombardia Meccatronica Academy e CNOS-FAP Lombardia rivolto a giovani fino a 24 anni con diploma almeno quadriennale\, che prevede: \n\n400 ore in aula e laboratorio con tecnologie all’avanguardia\n400 ore di formazione sul campo in aziende del territorio\nCertificazione tecnica superiore EQF IV\, riconosciuta a livello europeo\nCorso finanziato da Regione Lombardia\n\nQuando: Venerdì 19.09.2025 dalle 17:00 alle 20:00 \nDove: Istituto Don Bosco di Brescia \nPer partecipare all’evento occorre registrarsi tramite questo link \n  \n \nFotografia di  da Pixabay
URL:https://bresciagiovani.it/evento/open-day-ifts-tecniche-di-installazione-e-manutenzione-di-impianti-civili-e-industriali/
LOCATION:Lavoro
END:VEVENT
END:VCALENDAR