BEGIN:VCALENDAR
VERSION:2.0
PRODID:-//Brescia Giovani - ECPv6.15.17.1//NONSGML v1.0//EN
CALSCALE:GREGORIAN
METHOD:PUBLISH
X-WR-CALNAME:Brescia Giovani
X-ORIGINAL-URL:https://bresciagiovani.it
X-WR-CALDESC:Eventi per Brescia Giovani
REFRESH-INTERVAL;VALUE=DURATION:PT1H
X-Robots-Tag:noindex
X-PUBLISHED-TTL:PT1H
BEGIN:VTIMEZONE
TZID:Europe/Rome
BEGIN:DAYLIGHT
TZOFFSETFROM:+0100
TZOFFSETTO:+0200
TZNAME:CEST
DTSTART:20240331T010000
END:DAYLIGHT
BEGIN:STANDARD
TZOFFSETFROM:+0200
TZOFFSETTO:+0100
TZNAME:CET
DTSTART:20241027T010000
END:STANDARD
BEGIN:DAYLIGHT
TZOFFSETFROM:+0100
TZOFFSETTO:+0200
TZNAME:CEST
DTSTART:20250330T010000
END:DAYLIGHT
BEGIN:STANDARD
TZOFFSETFROM:+0200
TZOFFSETTO:+0100
TZNAME:CET
DTSTART:20251026T010000
END:STANDARD
BEGIN:DAYLIGHT
TZOFFSETFROM:+0100
TZOFFSETTO:+0200
TZNAME:CEST
DTSTART:20260329T010000
END:DAYLIGHT
BEGIN:STANDARD
TZOFFSETFROM:+0200
TZOFFSETTO:+0100
TZNAME:CET
DTSTART:20261025T010000
END:STANDARD
END:VTIMEZONE
BEGIN:VEVENT
DTSTART;TZID=Europe/Rome:20250922T153000
DTEND;TZID=Europe/Rome:20250922T173000
DTSTAMP:20260423T043524
CREATED:20250902T153837Z
LAST-MODIFIED:20250902T153837Z
UID:10000643-1758555000-1758562200@bresciagiovani.it
SUMMARY:Che circo fai!?
DESCRIPTION:Impara a giocolare con palline e clave\, stare in equilibrio su funi e trampoli e fare semplici acrobazie! \n  \nCALENDARIO INCONTRI: \nLunedì 22 e 29 settembre 6 e 13 ottobre \nDalle 15.30 alle 17.30 \nPiastra Pendolina\, via ragazzi del ’99 n.5 \n  \nPuoi venire a tutti gli appuntamenti o anche solo a uno. \n— \nGli appuntamenti sono gratuiti e dedicati a giovani dai 13 ai 25 anni.
URL:https://bresciagiovani.it/evento/che-circo-fai/
LOCATION:Piastra Pendolina\, via Ragazzi del ’99 5\, Brescia\, 25127\, Italia
CATEGORIES:Voglia di fare
ATTACH;FMTTYPE=image/jpeg:https://bresciagiovani.it/wp-content/uploads/2025/09/Circo_banner.jpg
GEO:45.5669587;10.207454
X-APPLE-STRUCTURED-LOCATION;VALUE=URI;X-ADDRESS=Piastra Pendolina via Ragazzi del ’99 5 Brescia 25127 Italia;X-APPLE-RADIUS=500;X-TITLE=via Ragazzi del ’99 5:geo:10.207454,45.5669587
END:VEVENT
END:VCALENDAR