BEGIN:VCALENDAR
VERSION:2.0
PRODID:-//Brescia Giovani - ECPv6.15.17.1//NONSGML v1.0//EN
CALSCALE:GREGORIAN
METHOD:PUBLISH
X-ORIGINAL-URL:https://bresciagiovani.it
X-WR-CALDESC:Eventi per Brescia Giovani
REFRESH-INTERVAL;VALUE=DURATION:PT1H
X-Robots-Tag:noindex
X-PUBLISHED-TTL:PT1H
BEGIN:VTIMEZONE
TZID:Europe/Rome
BEGIN:DAYLIGHT
TZOFFSETFROM:+0100
TZOFFSETTO:+0200
TZNAME:CEST
DTSTART:20240331T010000
END:DAYLIGHT
BEGIN:STANDARD
TZOFFSETFROM:+0200
TZOFFSETTO:+0100
TZNAME:CET
DTSTART:20241027T010000
END:STANDARD
BEGIN:DAYLIGHT
TZOFFSETFROM:+0100
TZOFFSETTO:+0200
TZNAME:CEST
DTSTART:20250330T010000
END:DAYLIGHT
BEGIN:STANDARD
TZOFFSETFROM:+0200
TZOFFSETTO:+0100
TZNAME:CET
DTSTART:20251026T010000
END:STANDARD
BEGIN:DAYLIGHT
TZOFFSETFROM:+0100
TZOFFSETTO:+0200
TZNAME:CEST
DTSTART:20260329T010000
END:DAYLIGHT
BEGIN:STANDARD
TZOFFSETFROM:+0200
TZOFFSETTO:+0100
TZNAME:CET
DTSTART:20261025T010000
END:STANDARD
END:VTIMEZONE
BEGIN:VEVENT
DTSTART;VALUE=DATE:20250702
DTEND;VALUE=DATE:20250704
DTSTAMP:20260419T225441
CREATED:20250619T154805Z
LAST-MODIFIED:20250619T154805Z
UID:10000419-1751428800-1751515199@bresciagiovani.it
SUMMARY:ArtAperitivi
DESCRIPTION:Un’esperienza artistica e di socialità\, dove esprimersi creativamente e sperimentare nuove tecniche\, in un ambiente informale e creativo\, accompagnato da bevande\, stuzzichini\, musica e buona compagnia! \nPuoi portare il tuo materiale o utilizzare quello messo a disposizione dallo spazio giovani\, come tele\, pennelli\, pitture e una varietà di strumenti creativi. \nNon ci sono regole fisse: l’importante è lasciarsi guidare dalla propria creatività e divertirsi nell’esplorare nuove possibilità artistiche. \n  \nSia che tu sia un principiante assoluto o un artista esperto\, c’è spazio per tutti all’ArtAperitivo! \n— \nMercoledì 25 giugno e 2 luglio \nDalle 17:30 alle 19:30 \nPiastra Pendolina\, via ragazzi del ’99 n.5 \n— \nIl laboratorio è gratuito e dedicato a giovani dai 13 ai 30 anni. \nCLICCA QUI PER ISCRIVERTI LINK
URL:https://bresciagiovani.it/evento/artaperitivi/
LOCATION:Piastra Pendolina\, via Ragazzi del ’99 5\, Brescia\, 25127\, Italia
CATEGORIES:Voglia di fare
ATTACH;FMTTYPE=image/avif:https://bresciagiovani.it/wp-content/uploads/2025/06/1-2.avif
ORGANIZER;CN="Piastra Pendolina":MAILTO:gabriele.angoscini@ilcalabrone.org
GEO:45.5669587;10.207454
X-APPLE-STRUCTURED-LOCATION;VALUE=URI;X-ADDRESS=Piastra Pendolina via Ragazzi del ’99 5 Brescia 25127 Italia;X-APPLE-RADIUS=500;X-TITLE=via Ragazzi del ’99 5:geo:10.207454,45.5669587
END:VEVENT
BEGIN:VEVENT
DTSTART;TZID=Europe/Rome:20250528T160000
DTEND;TZID=Europe/Rome:20250528T180000
DTSTAMP:20260419T225441
CREATED:20250519T104347Z
LAST-MODIFIED:20250519T104347Z
UID:10000637-1748448000-1748455200@bresciagiovani.it
SUMMARY:Filiamocela
DESCRIPTION:Informagiovani e VivaVittoria si uniscono! \nCrea accessori e oggetti fatti a mano da te in un ambiente accogliente e creativo in buona compagnia! \nPartecipa al laboratorio di uncinetto e maglia ogni mercoledì dalle 16 alle 18 presso l’Informagiovani di Brescia\, via Moretto\,78. \n Info e iscrizioni: https://filiamocela.eventbrite.it
URL:https://bresciagiovani.it/evento/filiamocela/
LOCATION:Informagiovani Brescia\, via Moretto 78\, Brescia\, BS\, 25122\, Italia
ATTACH;FMTTYPE=image/jpeg:https://bresciagiovani.it/wp-content/uploads/2025/04/filiamocelan.jpg
GEO:45.5433769;10.2196859
X-APPLE-STRUCTURED-LOCATION;VALUE=URI;X-ADDRESS=Informagiovani Brescia via Moretto 78 Brescia BS 25122 Italia;X-APPLE-RADIUS=500;X-TITLE=via Moretto 78:geo:10.2196859,45.5433769
END:VEVENT
END:VCALENDAR