BEGIN:VCALENDAR
VERSION:2.0
PRODID:-//Brescia Giovani - ECPv6.15.17.1//NONSGML v1.0//EN
CALSCALE:GREGORIAN
METHOD:PUBLISH
X-WR-CALNAME:Brescia Giovani
X-ORIGINAL-URL:https://bresciagiovani.it
X-WR-CALDESC:Eventi per Brescia Giovani
REFRESH-INTERVAL;VALUE=DURATION:PT1H
X-Robots-Tag:noindex
X-PUBLISHED-TTL:PT1H
BEGIN:VTIMEZONE
TZID:Europe/Rome
BEGIN:DAYLIGHT
TZOFFSETFROM:+0100
TZOFFSETTO:+0200
TZNAME:CEST
DTSTART:20240331T010000
END:DAYLIGHT
BEGIN:STANDARD
TZOFFSETFROM:+0200
TZOFFSETTO:+0100
TZNAME:CET
DTSTART:20241027T010000
END:STANDARD
BEGIN:DAYLIGHT
TZOFFSETFROM:+0100
TZOFFSETTO:+0200
TZNAME:CEST
DTSTART:20250330T010000
END:DAYLIGHT
BEGIN:STANDARD
TZOFFSETFROM:+0200
TZOFFSETTO:+0100
TZNAME:CET
DTSTART:20251026T010000
END:STANDARD
BEGIN:DAYLIGHT
TZOFFSETFROM:+0100
TZOFFSETTO:+0200
TZNAME:CEST
DTSTART:20260329T010000
END:DAYLIGHT
BEGIN:STANDARD
TZOFFSETFROM:+0200
TZOFFSETTO:+0100
TZNAME:CET
DTSTART:20261025T010000
END:STANDARD
END:VTIMEZONE
BEGIN:VEVENT
DTSTART;TZID=Europe/Rome:20250918T183000
DTEND;TZID=Europe/Rome:20250918T203000
DTSTAMP:20260422T134649
CREATED:20250901T095143Z
LAST-MODIFIED:20250901T095143Z
UID:10000641-1758220200-1758227400@bresciagiovani.it
SUMMARY:Impara a usare LinkedIn!
DESCRIPTION:Qualcun* ha visualizzato il tuo profilo LinkedIn?\nFatti notare!\n  \n\nCrea un profilo Linkedin efficace utilizzando i “trucchi del mestiere”\nValorizza il tuo profilo professionale\nTrova nuove opportunità lavorative e migliora la tua crescita professionale\n\n  \nGiovedì 18 settembre\, ore 18:30-20:30 \nInformagiovani Brescia\, via Moretto n.78 | MO.CA – Centro per le nuove culture \nCon Isabella Berardi\, Social Media Manager.
URL:https://bresciagiovani.it/evento/impara-a-usare-linkedin/
LOCATION:Informagiovani Brescia\, via Moretto 78\, Brescia\, BS\, 25122\, Italia
CATEGORIES:ESN
ATTACH;FMTTYPE=image/jpeg:https://bresciagiovani.it/wp-content/uploads/2025/09/linkedin.jpg
ORGANIZER;CN="Informagiovani Brescia":MAILTO:infogiovani@comune.brescia.it
GEO:45.5433769;10.2196859
X-APPLE-STRUCTURED-LOCATION;VALUE=URI;X-ADDRESS=Informagiovani Brescia via Moretto 78 Brescia BS 25122 Italia;X-APPLE-RADIUS=500;X-TITLE=via Moretto 78:geo:10.2196859,45.5433769
END:VEVENT
BEGIN:VEVENT
DTSTART;TZID=Europe/Rome:20250919T170000
DTEND;TZID=Europe/Rome:20250920T200000
DTSTAMP:20260422T134649
CREATED:20250916T152917Z
LAST-MODIFIED:20250916T152917Z
UID:10000645-1758301200-1758398400@bresciagiovani.it
SUMMARY:Open Day IFTS "Tecniche di installazione e manutenzione di impianti civili e industriali"
DESCRIPTION:Durante l’evento si potranno scoprire tutti i dettagli del percorso formativo\, nato dalla collaborazione tra TS Lombardia Meccatronica Academy e CNOS-FAP Lombardia rivolto a giovani fino a 24 anni con diploma almeno quadriennale\, che prevede: \n\n400 ore in aula e laboratorio con tecnologie all’avanguardia\n400 ore di formazione sul campo in aziende del territorio\nCertificazione tecnica superiore EQF IV\, riconosciuta a livello europeo\nCorso finanziato da Regione Lombardia\n\nQuando: Venerdì 19.09.2025 dalle 17:00 alle 20:00 \nDove: Istituto Don Bosco di Brescia \nPer partecipare all’evento occorre registrarsi tramite questo link \n  \n \nFotografia di  da Pixabay
URL:https://bresciagiovani.it/evento/open-day-ifts-tecniche-di-installazione-e-manutenzione-di-impianti-civili-e-industriali/
LOCATION:Lavoro
END:VEVENT
BEGIN:VEVENT
DTSTART;TZID=Europe/Rome:20250920T193000
DTEND;TZID=Europe/Rome:20250920T220000
DTSTAMP:20260422T134649
CREATED:20250804T105145Z
LAST-MODIFIED:20250804T105145Z
UID:10000421-1758396600-1758405600@bresciagiovani.it
SUMMARY:SPEEED
DESCRIPTION:SPEEED è un progetto coreografico e musicale ispirato dal fenomeno della Para Para e dell’Eurobeat\, diffusosi negli anni ’90 nel club di Tokyo. \nSPEEED è un lavoro mimetico perchè copia fedelmente la sua fonte d’ispirazione: le danzatrici in scena ti stimolano ad agire\, uno schiaffo a 160 bpm ti lancia in una centrifuga di puro e genuino entusiasmo dove automobili da tuning suonano dell’Eurobeat a volume altissimo. \nDue spettacoli: uno alle ore 19.30 e uno alle 21.00.
URL:https://bresciagiovani.it/evento/speeed/
LOCATION:themify-ultra-child
ATTACH;FMTTYPE=image/png:https://bresciagiovani.it/wp-content/uploads/2025/08/Immagine-2025-08-04-124921.png
ORGANIZER;CN="Fondazione Teatro Grande":MAILTO:info@teatrogrande.it
END:VEVENT
BEGIN:VEVENT
DTSTART;TZID=Europe/Rome:20250921T160000
DTEND;TZID=Europe/Rome:20250921T180000
DTSTAMP:20260422T134649
CREATED:20250911T163254Z
LAST-MODIFIED:20250911T163254Z
UID:10000644-1758470400-1758477600@bresciagiovani.it
SUMMARY:Brescia Bike Fest
DESCRIPTION:A Brescia è nata Brescia Bike Fest\, una festa itinerante in bicicletta che quest’anno è alla sua seconda edizione. \nL’appuntamento è per domenica 21 settembre alle ore 16 in Largo Formentone\, all’interno delle iniziative della Settimana Europea della Mobilità. Donne\, uomini\, bambine e bambini sono invitati a prendere parte alla pedalata più colorata\, festosa e contagiosa dell’anno. \nBrescia Bike Fest è anche un’occasione per ribadire che la bicicletta è un formidabile mezzo di trasporto che migliora la qualità degli spazi pubblici e della vita. Brescia Bike Fest celebra l’orgoglio di spostarsi in bici e chiede una città più sicura per pedalare: più persone vanno in bici\, più persone saranno incoraggiate a farlo. \nPer partecipare non serve essere ciclisti esperti: il percorso è breve e adatto a chiunque. Quello che conta è l’energia e la voglia di stare insieme. \nI consigli per partecipare sono: \n\n\nVestirsi in modo colorato; \n\n\nDecorare la propria bicicletta; \n\n\nFare rumore e divertirsi; \n\n\nLa partecipazione è libera\, gratuita e senza registrazione. \nSconsigliati loghi e bandiere\, vorremmo che la pedalata fosse delle persone.
URL:https://bresciagiovani.it/evento/brescia-bike-fest/
LOCATION:Largo Formentone\, largo Formentone\, Brescia\, BS\, 25122\, Italia
GEO:45.5402346;10.2195731
X-APPLE-STRUCTURED-LOCATION;VALUE=URI;X-ADDRESS=Largo Formentone largo Formentone Brescia BS 25122 Italia;X-APPLE-RADIUS=500;X-TITLE=largo Formentone:geo:10.2195731,45.5402346
END:VEVENT
END:VCALENDAR