BEGIN:VCALENDAR
VERSION:2.0
PRODID:-//Brescia Giovani - ECPv6.15.17.1//NONSGML v1.0//EN
CALSCALE:GREGORIAN
METHOD:PUBLISH
X-ORIGINAL-URL:https://bresciagiovani.it
X-WR-CALDESC:Eventi per Brescia Giovani
REFRESH-INTERVAL;VALUE=DURATION:PT1H
X-Robots-Tag:noindex
X-PUBLISHED-TTL:PT1H
BEGIN:VTIMEZONE
TZID:Europe/Rome
BEGIN:DAYLIGHT
TZOFFSETFROM:+0100
TZOFFSETTO:+0200
TZNAME:CEST
DTSTART:20240331T010000
END:DAYLIGHT
BEGIN:STANDARD
TZOFFSETFROM:+0200
TZOFFSETTO:+0100
TZNAME:CET
DTSTART:20241027T010000
END:STANDARD
BEGIN:DAYLIGHT
TZOFFSETFROM:+0100
TZOFFSETTO:+0200
TZNAME:CEST
DTSTART:20250330T010000
END:DAYLIGHT
BEGIN:STANDARD
TZOFFSETFROM:+0200
TZOFFSETTO:+0100
TZNAME:CET
DTSTART:20251026T010000
END:STANDARD
BEGIN:DAYLIGHT
TZOFFSETFROM:+0100
TZOFFSETTO:+0200
TZNAME:CEST
DTSTART:20260329T010000
END:DAYLIGHT
BEGIN:STANDARD
TZOFFSETFROM:+0200
TZOFFSETTO:+0100
TZNAME:CET
DTSTART:20261025T010000
END:STANDARD
END:VTIMEZONE
BEGIN:VEVENT
DTSTART;VALUE=DATE:20250604
DTEND;VALUE=DATE:20250620
DTSTAMP:20260422T194408
CREATED:20250527T154217Z
LAST-MODIFIED:20250527T154217Z
UID:10000413-1749009600-1750305599@bresciagiovani.it
SUMMARY:Tanto per dire...
DESCRIPTION:Conflitti\, sostanze stupefacenti\, relazioni.\nCome se ne parla sui social? Cosa ne pensi tu?\n\nVieni a parlarne in Piastra con altri ragazzi e ragazze e registriamo una puntata di un podcast insieme! \nCALENDARIO INCONTRI: \n\nMercoledì 4 giugno: conflitti\nMercoledì 11 giugno: relazioni\nMercoledì 18 giugno: sostanze stupefacenti\n\nDalle 17 alle 19 \nPiastra Pendolina\, via ragazzi del ’99 n.5 \nAlla fine dell’incontro potrai portarti a casa la registrazione della tua puntata! \n— \nLaboratorio gratuito per giovani dai 14 ai 25 anni. Posti limitati. Non sono richieste competenze. \nIscrizioni
URL:https://bresciagiovani.it/evento/tanto-per-dire/
LOCATION:Piastra Pendolina\, via Ragazzi del ’99 5\, Brescia\, 25127\, Italia
ATTACH;FMTTYPE=image/jpeg:https://bresciagiovani.it/wp-content/uploads/2025/05/WhatsApp-Image-2025-05-27-at-14.57.39.jpeg
ORGANIZER;CN="Piastra Pendolina":MAILTO:gabriele.angoscini@ilcalabrone.org
GEO:45.5669587;10.207454
X-APPLE-STRUCTURED-LOCATION;VALUE=URI;X-ADDRESS=Piastra Pendolina via Ragazzi del ’99 5 Brescia 25127 Italia;X-APPLE-RADIUS=500;X-TITLE=via Ragazzi del ’99 5:geo:10.207454,45.5669587
END:VEVENT
BEGIN:VEVENT
DTSTART;VALUE=DATE:20250606
DTEND;VALUE=DATE:20250610
DTSTAMP:20260422T194408
CREATED:20250519T125756Z
LAST-MODIFIED:20250519T125756Z
UID:10000638-1749182400-1749441599@bresciagiovani.it
SUMMARY:Embodying Migration
DESCRIPTION:Mostra immersiva nelle storie dei minori stranieri non accompagnati. \nIl filo conduttore del progetto è il corpo umano\, come espressione della propria storia personale che si concentra su varie parti di esso (occhi\, bocca\, orecchie\, mani\, piedi\, testa\, cuore\, anima e corpo). \nTramite laboratori e attività pratiche\, i ragazzi hanno narrato\, secondo le proprie sensibilità e volontà\, il percorso migratorio che hanno fatto\, la famiglia e i propri sogni. \nL’evento si terrà: \n\nil 6 giugno dalle 16 alle 19\nil 7 e 8 giugno dalle 10 alle 19\n\nUn progetto della Procura della Repubblica presso il Tribunale per i Minorenni di Brescia\, con il supporto di tanti enti e realtà del territorio. \nIngresso libero e gratuito.
URL:https://bresciagiovani.it/evento/embodying-migration/
LOCATION:Mo.Ca Centro per le Nuove Culture\, via Moretto 78 (ex Tribunale)\, Brescia\, BS\, 25122\, Italia
END:VEVENT
BEGIN:VEVENT
DTSTART;TZID=Europe/Rome:20250611T170000
DTEND;TZID=Europe/Rome:20250611T181500
DTSTAMP:20260422T194408
CREATED:20250526T090023Z
LAST-MODIFIED:20250526T090023Z
UID:10000412-1749661200-1749665700@bresciagiovani.it
SUMMARY:Yoga in Piastra
DESCRIPTION:Un percorso di yoga in cinque incontri. Si partirà dall’ascolto di sé\, del proprio corpo e del proprio respiro fino a sperimentare la relazione con l’altro\, attraverso esercizi di connessione.
URL:https://bresciagiovani.it/evento/yoga-in-piastra-2/
LOCATION:Piastra Pendolina\, via Ragazzi del ’99 5\, Brescia\, 25127\, Italia
ATTACH;FMTTYPE=image/jpeg:https://bresciagiovani.it/wp-content/uploads/2025/05/IMG-20250520-WA0004.jpg
ORGANIZER;CN="Piastra Pendolina":MAILTO:gabriele.angoscini@ilcalabrone.org
GEO:45.5669587;10.207454
X-APPLE-STRUCTURED-LOCATION;VALUE=URI;X-ADDRESS=Piastra Pendolina via Ragazzi del ’99 5 Brescia 25127 Italia;X-APPLE-RADIUS=500;X-TITLE=via Ragazzi del ’99 5:geo:10.207454,45.5669587
END:VEVENT
BEGIN:VEVENT
DTSTART;VALUE=DATE:20250612
DTEND;VALUE=DATE:20250614
DTSTAMP:20260422T194408
CREATED:20250603T091752Z
LAST-MODIFIED:20250603T091752Z
UID:10000415-1749700800-1749787199@bresciagiovani.it
SUMMARY:Volontariato estivo
DESCRIPTION:L’estate in città ti annoia? Fai volontariato!\nIncontra alcune associazioni del territorio e scopri di cosa si occupano\, i progetti aperti e le esperienze che puoi vivere con loro quest’estate. \nGiovedì 12 giugno \nDalle 17.30 alle 18.45 \n  \nInformagiovani Brescia\, via Moretto n.78 | MO.CA – Centro per le nuove culture \nIn collaborazione con CSV Brescia\, Associazione Perlar\, Bimbo Chiama Bimbo ODV\, Volontari del Sebino. \nIncontro sono gratuito e dedicato a giovani dai 14 ai 30 anni.
URL:https://bresciagiovani.it/evento/volontariato-estivo/
LOCATION:Informagiovani Brescia\, via Moretto 78\, Brescia\, BS\, 25122\, Italia
ATTACH;FMTTYPE=image/jpeg:https://bresciagiovani.it/wp-content/uploads/2025/06/IMG-20250603-WA0001.jpg
GEO:45.5433769;10.2196859
X-APPLE-STRUCTURED-LOCATION;VALUE=URI;X-ADDRESS=Informagiovani Brescia via Moretto 78 Brescia BS 25122 Italia;X-APPLE-RADIUS=500;X-TITLE=via Moretto 78:geo:10.2196859,45.5433769
END:VEVENT
BEGIN:VEVENT
DTSTART;VALUE=DATE:20250612
DTEND;VALUE=DATE:20250614
DTSTAMP:20260422T194408
CREATED:20250603T092640Z
LAST-MODIFIED:20250603T092640Z
UID:10000416-1749700800-1749787199@bresciagiovani.it
SUMMARY:Aperitivo in English - Summer Edition
DESCRIPTION:Giochi\, quiz e conversazioni in inglese per imparare la lingua in compagnia! \n  \nGiovedì 12 giugno \nDalle 18.45 alle 20.30 \nInformagiovani Brescia\, via Moretto n.78 | MO.CA – Centro per le nuove culture \nIn collaborazione con ESN Brescia \nGli Aperitivi in English sono gratuiti e dedicati a giovani dai 14 ai 30 anni. È richiesta la prenotazione
URL:https://bresciagiovani.it/evento/aperitivo-in-english-summer-edition/
LOCATION:Informagiovani Brescia\, via Moretto 78\, Brescia\, BS\, 25122\, Italia
ATTACH;FMTTYPE=image/avif:https://bresciagiovani.it/wp-content/uploads/2025/06/2.avif
GEO:45.5433769;10.2196859
X-APPLE-STRUCTURED-LOCATION;VALUE=URI;X-ADDRESS=Informagiovani Brescia via Moretto 78 Brescia BS 25122 Italia;X-APPLE-RADIUS=500;X-TITLE=via Moretto 78:geo:10.2196859,45.5433769
END:VEVENT
END:VCALENDAR