BEGIN:VCALENDAR
VERSION:2.0
PRODID:-//Brescia Giovani - ECPv6.15.17.1//NONSGML v1.0//EN
CALSCALE:GREGORIAN
METHOD:PUBLISH
X-WR-CALNAME:Brescia Giovani
X-ORIGINAL-URL:https://bresciagiovani.it
X-WR-CALDESC:Eventi per Brescia Giovani
REFRESH-INTERVAL;VALUE=DURATION:PT1H
X-Robots-Tag:noindex
X-PUBLISHED-TTL:PT1H
BEGIN:VTIMEZONE
TZID:Europe/Rome
BEGIN:DAYLIGHT
TZOFFSETFROM:+0100
TZOFFSETTO:+0200
TZNAME:CEST
DTSTART:20240331T010000
END:DAYLIGHT
BEGIN:STANDARD
TZOFFSETFROM:+0200
TZOFFSETTO:+0100
TZNAME:CET
DTSTART:20241027T010000
END:STANDARD
BEGIN:DAYLIGHT
TZOFFSETFROM:+0100
TZOFFSETTO:+0200
TZNAME:CEST
DTSTART:20250330T010000
END:DAYLIGHT
BEGIN:STANDARD
TZOFFSETFROM:+0200
TZOFFSETTO:+0100
TZNAME:CET
DTSTART:20251026T010000
END:STANDARD
BEGIN:DAYLIGHT
TZOFFSETFROM:+0100
TZOFFSETTO:+0200
TZNAME:CEST
DTSTART:20260329T010000
END:DAYLIGHT
BEGIN:STANDARD
TZOFFSETFROM:+0200
TZOFFSETTO:+0100
TZNAME:CET
DTSTART:20261025T010000
END:STANDARD
END:VTIMEZONE
BEGIN:VEVENT
DTSTART;TZID=Europe/Rome:20250522T200000
DTEND;TZID=Europe/Rome:20250522T220000
DTSTAMP:20260423T004652
CREATED:20250519T104018Z
LAST-MODIFIED:20250519T104018Z
UID:10000636-1747944000-1747951200@bresciagiovani.it
SUMMARY:Conosci il Servizio Civile Universale?
DESCRIPTION:La Rete Bresciana del Servizio Civile\, organizza una serata per promuovere il Servizio Civile\, un’occasione per capire come funziona questa opportunità\, fare domande a chi ha partecipato e bere un aperitivo (gratis!) insieme. \nPer questioni organizzative è consigliato iscriversi al seguente link https://bit.ly/4jSSQKA \n  \n  \n  \n  \n 
URL:https://bresciagiovani.it/evento/conosci-il-servizio-civile-universale/
LOCATION:Brescia\, Italia
END:VEVENT
END:VCALENDAR