BEGIN:VCALENDAR
VERSION:2.0
PRODID:-//Brescia Giovani - ECPv6.15.17.1//NONSGML v1.0//EN
CALSCALE:GREGORIAN
METHOD:PUBLISH
X-ORIGINAL-URL:https://bresciagiovani.it
X-WR-CALDESC:Eventi per Brescia Giovani
REFRESH-INTERVAL;VALUE=DURATION:PT1H
X-Robots-Tag:noindex
X-PUBLISHED-TTL:PT1H
BEGIN:VTIMEZONE
TZID:Europe/Rome
BEGIN:DAYLIGHT
TZOFFSETFROM:+0100
TZOFFSETTO:+0200
TZNAME:CEST
DTSTART:20240331T010000
END:DAYLIGHT
BEGIN:STANDARD
TZOFFSETFROM:+0200
TZOFFSETTO:+0100
TZNAME:CET
DTSTART:20241027T010000
END:STANDARD
BEGIN:DAYLIGHT
TZOFFSETFROM:+0100
TZOFFSETTO:+0200
TZNAME:CEST
DTSTART:20250330T010000
END:DAYLIGHT
BEGIN:STANDARD
TZOFFSETFROM:+0200
TZOFFSETTO:+0100
TZNAME:CET
DTSTART:20251026T010000
END:STANDARD
BEGIN:DAYLIGHT
TZOFFSETFROM:+0100
TZOFFSETTO:+0200
TZNAME:CEST
DTSTART:20260329T010000
END:DAYLIGHT
BEGIN:STANDARD
TZOFFSETFROM:+0200
TZOFFSETTO:+0100
TZNAME:CET
DTSTART:20261025T010000
END:STANDARD
BEGIN:DAYLIGHT
TZOFFSETFROM:+0100
TZOFFSETTO:+0200
TZNAME:CEST
DTSTART:20270328T010000
END:DAYLIGHT
BEGIN:STANDARD
TZOFFSETFROM:+0200
TZOFFSETTO:+0100
TZNAME:CET
DTSTART:20271031T010000
END:STANDARD
END:VTIMEZONE
BEGIN:VEVENT
DTSTART;TZID=Europe/Rome:20251024T090000
DTEND;TZID=Europe/Rome:20251112T130000
DTSTAMP:20260420T085923
CREATED:20251002T180142Z
LAST-MODIFIED:20251002T180142Z
UID:10000424-1761296400-1762952400@bresciagiovani.it
SUMMARY:Futuro in testa
DESCRIPTION:Un’occasione di confronto sul tema della scelta scolastica\, per rendere questa esperienza un’occasione di crescita. \n  \nTeatro Forum per l’orientamento scolastico rivolto alle classi terze della Scuola secondaria di Primo Grado \nCon la compagnia teatrale “Spunti di vista” de La nuvola nel sacco \n  \nDove? Informagiovani \nQuando? 24 e 28 ottobre e 5 e 11 novembre \nOrario: 9.00-11.00 e 11.00-13.00
URL:https://bresciagiovani.it/evento/futuro-in-testa/
LOCATION:Informagiovani Brescia\, via Moretto 78\, Brescia\, BS\, 25122\, Italia
CATEGORIES:ESN
ATTACH;FMTTYPE=image/jpeg:https://bresciagiovani.it/wp-content/uploads/2025/12/Futuro-in-testa.jpg
ORGANIZER;CN="Informagiovani Brescia":MAILTO:infogiovani@comune.brescia.it
GEO:45.5433769;10.2196859
X-APPLE-STRUCTURED-LOCATION;VALUE=URI;X-ADDRESS=Informagiovani Brescia via Moretto 78 Brescia BS 25122 Italia;X-APPLE-RADIUS=500;X-TITLE=via Moretto 78:geo:10.2196859,45.5433769
END:VEVENT
BEGIN:VEVENT
DTSTART;TZID=Europe/Rome:20251105T170000
DTEND;TZID=Europe/Rome:20251105T190000
DTSTAMP:20260420T085923
CREATED:20251031T142618Z
LAST-MODIFIED:20251031T142618Z
UID:10000650-1762362000-1762369200@bresciagiovani.it
SUMMARY:Percorso di Mindfulness
DESCRIPTION:Pratiche per sviluppare una mente consapevole\n\n\n\nLa Mindfulness è una pratica che permette di osservare se stessi\, pensieri\, emozioni e sensazioni\, in modo non giudicante\, attraverso l’accettazione e la gentilezza amorevole. \nÈ una pratica interamente esperienziale\, che consente di fare esperienza di ciò che accade nel momento presente. \nL’aspetto fondamentale della Mindfulness è la pratica. La meditazione\, come parte integrante\, consente di distanziarci dai nostri pensieri\, dalle nostre emozioni e di osservarle come eventi passeggeri e di sviluppare una serenità più profonda e calma interiore. \nPorta un tappetino da yoga o simili\, un cuscino da meditazione (se ce l’hai) o un cuscino qualsiasi e indossa abbigliamento comodo. \nLe pratiche di mindfulness sono gratuite e dedicate a giovani dai 13 ai 25 anni.
URL:https://bresciagiovani.it/evento/percorso-di-mindfulness-2/
LOCATION:Piastra Pendolina\, via Ragazzi del ’99 5\, Brescia\, 25127\, Italia
ATTACH;FMTTYPE=image/jpeg:https://bresciagiovani.it/wp-content/uploads/2025/12/https___cdn.evbuc_.com_images_1106458613_439545738142_1_original.jpg
ORGANIZER;CN="Piastra Pendolina":MAILTO:gabriele.angoscini@ilcalabrone.org
GEO:45.5669587;10.207454
X-APPLE-STRUCTURED-LOCATION;VALUE=URI;X-ADDRESS=Piastra Pendolina via Ragazzi del ’99 5 Brescia 25127 Italia;X-APPLE-RADIUS=500;X-TITLE=via Ragazzi del ’99 5:geo:10.207454,45.5669587
END:VEVENT
BEGIN:VEVENT
DTSTART;TZID=Europe/Rome:20251105T173000
DTEND;TZID=Europe/Rome:20251105T193000
DTSTAMP:20260420T085923
CREATED:20251031T160004Z
LAST-MODIFIED:20251031T160004Z
UID:10000651-1762363800-1762371000@bresciagiovani.it
SUMMARY:Drop the Beat
DESCRIPTION:laboratorio per produrre le tue basi rap\, hip-hop e trap\n\n\n\nScopri come creare un beat hip hop o trap partendo dagli elementi ritmici\, fino ad arrivare alle melodie e all’arrangiamento finale.\nProduci la tua musica imparando tecniche base e l’utilizzo di software dedicati\, come come Audacity\, Reaper\, FL Studio\, Logic e Ableton Live. \nNon sono necessarie conoscenze pregresse\, ma curiosità e voglia di sperimentare! \nCALENDARIO INCONTRI: \nMercoledì 5\, 12 e 19 novembre \nDalle 17.30 alle 19.30 \nPiastra Pendolina\, via ragazzi del ’99 n.5 \nCon Sabrina Zardoub\, music producer \nSe ce l’hai\, porta con te il tuo PC! \n— \nLaboratorio gratuito per giovani dai 13 ai 25 anni. Posti limitati.
URL:https://bresciagiovani.it/evento/drop-the-beat/
LOCATION:Piastra Pendolina\, via Ragazzi del ’99 5\, Brescia\, 25127\, Italia
CATEGORIES:arte
ATTACH;FMTTYPE=image/jpeg:https://bresciagiovani.it/wp-content/uploads/2025/12/https___cdn.evbuc_.com_images_1154861753_439545738142_1_original.jpg
ORGANIZER;CN="Piastra Pendolina":MAILTO:gabriele.angoscini@ilcalabrone.org
GEO:45.5669587;10.207454
X-APPLE-STRUCTURED-LOCATION;VALUE=URI;X-ADDRESS=Piastra Pendolina via Ragazzi del ’99 5 Brescia 25127 Italia;X-APPLE-RADIUS=500;X-TITLE=via Ragazzi del ’99 5:geo:10.207454,45.5669587
END:VEVENT
BEGIN:VEVENT
DTSTART;TZID=Europe/Rome:20251117T080000
DTEND;TZID=Europe/Rome:20260303T170000
DTSTAMP:20260420T085923
CREATED:20251110T102401Z
LAST-MODIFIED:20251229T151315Z
UID:10000652-1763366400-1772557200@bresciagiovani.it
SUMMARY:Material for an Exhibition. Storie\, memorie e lotte dalla Palestina e dal Mediterraneo
DESCRIPTION:La mostra\, curata da Sara Alberani e promossa dal Comune di Brescia e da Fondazione Brescia Musei\, con il patrocinio di Amnesty Italia e CCDC Cooperativa Cattolico – democratica di Cultura\, riunisce opere di artisti provenienti da zone di conflitto\, in particolare dalla regione mediorientale oggi segnata da divisioni e frammentazioni – da Gaza alla Cisgiordania fino al Libano – che hanno vissuto in prima persona la quotidianità della guerra e dell’esilio. A portare la loro testimonianza artistica e culturale gli artisti internazionali palestinesi Mohammed Al-Hawajri\, Dina Mattar e Emily Jacir (Leone d’oro a Venezia nel 2007) e l’artista libanese Haig Aivazian. \n🎟️ Durante i giorni del Festival della Pace di Brescia\, dall’8 al 23 novembre 2025\, tutti i visitatori potranno visitare gratuitamente la mostra.
URL:https://bresciagiovani.it/evento/material-for-an-exhibition-storie-memorie-e-lotte-dalla-palestina-e-dal-mediterraneo/
LOCATION:Museo di Santa Giulia\, via Musei 81/b\, Brescia\, 25121\, Italia
ATTACH;FMTTYPE=image/gif:https://bresciagiovani.it/wp-content/uploads/2025/12/banner-640x480px.gif
GEO:45.5394205;10.227916
X-APPLE-STRUCTURED-LOCATION;VALUE=URI;X-ADDRESS=Museo di Santa Giulia via Musei 81/b Brescia 25121 Italia;X-APPLE-RADIUS=500;X-TITLE=via Musei 81/b:geo:10.227916,45.5394205
END:VEVENT
BEGIN:VEVENT
DTSTART;TZID=Europe/Rome:20251118T160000
DTEND;TZID=Europe/Rome:20251118T180000
DTSTAMP:20260420T085923
CREATED:20251114T154732Z
LAST-MODIFIED:20251114T154732Z
UID:10000653-1763481600-1763488800@bresciagiovani.it
SUMMARY:Facciamo Economia!
DESCRIPTION:Pillole di educazione finanziaria: i prestiti personali.\n\n\n\nMartedì 18 novembre\nDalle 16.00 alle 18.00\nInformagiovani Brescia\, via Moretto n.78 | MO.CA – Centro per le nuove culture \nCon Loris Bellina\, formatore della Fondazione ETS del Credito Cooperativo Tertio Millennio\, iscritto all’Albo Docenti di Federcasse \nEvento gratuito e dedicato a giovani dai 14 ai 30 anni. È consigliata la prenotazione.
URL:https://bresciagiovani.it/evento/facciamo-economia-2/
LOCATION:Informagiovani Brescia\, via Moretto 78\, Brescia\, BS\, 25122\, Italia
CATEGORIES:cleanup
ATTACH;FMTTYPE=image/jpeg:https://bresciagiovani.it/wp-content/uploads/2025/12/Facciamo-Economia-21.jpg
ORGANIZER;CN="Informagiovani Brescia":MAILTO:infogiovani@comune.brescia.it
GEO:45.5433769;10.2196859
X-APPLE-STRUCTURED-LOCATION;VALUE=URI;X-ADDRESS=Informagiovani Brescia via Moretto 78 Brescia BS 25122 Italia;X-APPLE-RADIUS=500;X-TITLE=via Moretto 78:geo:10.2196859,45.5433769
END:VEVENT
BEGIN:VEVENT
DTSTART;TZID=Europe/Rome:20251129T140000
DTEND;TZID=Europe/Rome:20251129T180000
DTSTAMP:20260420T085923
CREATED:20251016T131228Z
LAST-MODIFIED:20251016T131228Z
UID:10000430-1764424800-1764439200@bresciagiovani.it
SUMMARY:OPEN DAY SCUOLA BOTTEGA
DESCRIPTION:OPEN DAY SCUOLA BOTTEGA \nQuando: Sabato 29 Novembre 2025 dalle 14 alle 18 \nDove: In tutte e 5 le sedi \n\nSEDE DI BRESCIA (Zona Brescia2);\nSEDE DI BRESCIA (Quartiere Fiumicello);\nSEDE DI BRESCIA (Quartiere Pendolina);\nSEDE MEZZANE (Calvisano);\nSEDE VIADANA (Calvisano);
URL:https://bresciagiovani.it/evento/open-day-scuola-bottega/
CATEGORIES:confronto
ATTACH;FMTTYPE=image/jpeg:https://bresciagiovani.it/wp-content/uploads/2025/12/ScuolaBottega_OpenDay.jpg
END:VEVENT
END:VCALENDAR