BEGIN:VCALENDAR
VERSION:2.0
PRODID:-//Brescia Giovani - ECPv6.15.17.1//NONSGML v1.0//EN
CALSCALE:GREGORIAN
METHOD:PUBLISH
X-ORIGINAL-URL:https://bresciagiovani.it
X-WR-CALDESC:Eventi per Brescia Giovani
REFRESH-INTERVAL;VALUE=DURATION:PT1H
X-Robots-Tag:noindex
X-PUBLISHED-TTL:PT1H
BEGIN:VTIMEZONE
TZID:Europe/Rome
BEGIN:DAYLIGHT
TZOFFSETFROM:+0100
TZOFFSETTO:+0200
TZNAME:CEST
DTSTART:20240331T010000
END:DAYLIGHT
BEGIN:STANDARD
TZOFFSETFROM:+0200
TZOFFSETTO:+0100
TZNAME:CET
DTSTART:20241027T010000
END:STANDARD
BEGIN:DAYLIGHT
TZOFFSETFROM:+0100
TZOFFSETTO:+0200
TZNAME:CEST
DTSTART:20250330T010000
END:DAYLIGHT
BEGIN:STANDARD
TZOFFSETFROM:+0200
TZOFFSETTO:+0100
TZNAME:CET
DTSTART:20251026T010000
END:STANDARD
BEGIN:DAYLIGHT
TZOFFSETFROM:+0100
TZOFFSETTO:+0200
TZNAME:CEST
DTSTART:20260329T010000
END:DAYLIGHT
BEGIN:STANDARD
TZOFFSETFROM:+0200
TZOFFSETTO:+0100
TZNAME:CET
DTSTART:20261025T010000
END:STANDARD
END:VTIMEZONE
BEGIN:VEVENT
DTSTART;TZID=Europe/Rome:20250506T160000
DTEND;TZID=Europe/Rome:20250506T180000
DTSTAMP:20260422T182311
CREATED:20250509T070041Z
LAST-MODIFIED:20250509T070041Z
UID:10000635-1746547200-1746554400@bresciagiovani.it
SUMMARY:Baby sitter? impara i trucchi del mestiere
DESCRIPTION:Tre incontri formativi sulla figura professionale di Baby Sitter con i nostri esperti: \n\nle operatrici Informagiovani per info su come cercare lavoro e la consulente del lavoro Sabrina Grazini per i contratti: 6 maggio dalle 16 alle 18;\nla Croce Rossa Italiana con le manovre salvavita e pronto soccorso pediatrico: 13 maggio dalle 15 alle 18;\nla sociologa Sandra Zanelli\, con info sull’organizzazione della giornata tipo e la relazione con i bambini: 21 maggio dalle 16 alle 18.\n\nTutti gli incontri sono gratuiti e dedicati a giovani tra i 16 e i 30 anni. \nPer info: infogiovani@comune.brescia.it \nPer iscrizioni. \n  \n 
URL:https://bresciagiovani.it/evento/baby-sitter-impara-i-trucchi-del-mestiere/
LOCATION:Informagiovani Brescia\, via Moretto 78\, Brescia\, BS\, 25122\, Italia
ORGANIZER;CN="Informagiovani Brescia":MAILTO:infogiovani@comune.brescia.it
GEO:45.5433769;10.2196859
X-APPLE-STRUCTURED-LOCATION;VALUE=URI;X-ADDRESS=Informagiovani Brescia via Moretto 78 Brescia BS 25122 Italia;X-APPLE-RADIUS=500;X-TITLE=via Moretto 78:geo:10.2196859,45.5433769
END:VEVENT
BEGIN:VEVENT
DTSTART;TZID=Europe/Rome:20250508T183000
DTEND;TZID=Europe/Rome:20250508T203000
DTSTAMP:20260422T182311
CREATED:20250214T110722Z
LAST-MODIFIED:20250214T110722Z
UID:10000628-1746729000-1746736200@bresciagiovani.it
SUMMARY:Tandem Linguistici
DESCRIPTION:Inglese\, tedesco\, spagnolo e francese\, italiano: cinque lingue europee per cinque tavoli di conversazione! \nScegli la lingua in cui ti vuoi esercitare e prenota il tuo posto! \nIn collaborazione con ESN Brescia – Erasmus Student Network \nIscrizione gratuita su https://tandemlingue.eventbrite.it \nI Tandem Linguistici sono appuntamenti gratuiti dedicati a giovani dai 14 ai 30 anni.
URL:https://bresciagiovani.it/evento/tandem-linguistici-2-2/
LOCATION:Informagiovani Brescia\, via Moretto 78\, Brescia\, BS\, 25122\, Italia
ATTACH;FMTTYPE=image/jpeg:https://bresciagiovani.it/wp-content/uploads/2025/02/tandem_n.jpg
ORGANIZER;CN="Informagiovani Brescia":MAILTO:infogiovani@comune.brescia.it
GEO:45.5433769;10.2196859
X-APPLE-STRUCTURED-LOCATION;VALUE=URI;X-ADDRESS=Informagiovani Brescia via Moretto 78 Brescia BS 25122 Italia;X-APPLE-RADIUS=500;X-TITLE=via Moretto 78:geo:10.2196859,45.5433769
END:VEVENT
BEGIN:VEVENT
DTSTART;TZID=Europe/Rome:20250509T160000
DTEND;TZID=Europe/Rome:20250509T220000
DTSTAMP:20260422T182311
CREATED:20250507T155800Z
LAST-MODIFIED:20250507T155800Z
UID:10000634-1746806400-1746828000@bresciagiovani.it
SUMMARY:Festa dell'Europa 2025
DESCRIPTION:Arriva la Festa dell’Europa! \nUn’occasione per scoprire tutte le opportunità dei programmi di mobilità europea\, ma anche per incontrarsi\, conoscere nuove persone e vivere un viaggio tra culture diverse. \nQuando? \nil 9 maggio dalle 16 alle 22 \nGuarda il programma e iscriviti qui!
URL:https://bresciagiovani.it/evento/festa-delleuropa-2025/
LOCATION:Informagiovani Brescia\, via Moretto 78\, Brescia\, BS\, 25122\, Italia
GEO:45.5433769;10.2196859
X-APPLE-STRUCTURED-LOCATION;VALUE=URI;X-ADDRESS=Informagiovani Brescia via Moretto 78 Brescia BS 25122 Italia;X-APPLE-RADIUS=500;X-TITLE=via Moretto 78:geo:10.2196859,45.5433769
END:VEVENT
BEGIN:VEVENT
DTSTART;TZID=Europe/Rome:20250522T200000
DTEND;TZID=Europe/Rome:20250522T220000
DTSTAMP:20260422T182311
CREATED:20250519T104018Z
LAST-MODIFIED:20250519T104018Z
UID:10000636-1747944000-1747951200@bresciagiovani.it
SUMMARY:Conosci il Servizio Civile Universale?
DESCRIPTION:La Rete Bresciana del Servizio Civile\, organizza una serata per promuovere il Servizio Civile\, un’occasione per capire come funziona questa opportunità\, fare domande a chi ha partecipato e bere un aperitivo (gratis!) insieme. \nPer questioni organizzative è consigliato iscriversi al seguente link https://bit.ly/4jSSQKA \n  \n  \n  \n  \n 
URL:https://bresciagiovani.it/evento/conosci-il-servizio-civile-universale/
LOCATION:Brescia\, Italia
END:VEVENT
BEGIN:VEVENT
DTSTART;TZID=Europe/Rome:20250528T160000
DTEND;TZID=Europe/Rome:20250528T180000
DTSTAMP:20260422T182311
CREATED:20250519T104347Z
LAST-MODIFIED:20250519T104347Z
UID:10000637-1748448000-1748455200@bresciagiovani.it
SUMMARY:Filiamocela
DESCRIPTION:Informagiovani e VivaVittoria si uniscono! \nCrea accessori e oggetti fatti a mano da te in un ambiente accogliente e creativo in buona compagnia! \nPartecipa al laboratorio di uncinetto e maglia ogni mercoledì dalle 16 alle 18 presso l’Informagiovani di Brescia\, via Moretto\,78. \n Info e iscrizioni: https://filiamocela.eventbrite.it
URL:https://bresciagiovani.it/evento/filiamocela/
LOCATION:Informagiovani Brescia\, via Moretto 78\, Brescia\, BS\, 25122\, Italia
ATTACH;FMTTYPE=image/jpeg:https://bresciagiovani.it/wp-content/uploads/2025/04/filiamocelan.jpg
GEO:45.5433769;10.2196859
X-APPLE-STRUCTURED-LOCATION;VALUE=URI;X-ADDRESS=Informagiovani Brescia via Moretto 78 Brescia BS 25122 Italia;X-APPLE-RADIUS=500;X-TITLE=via Moretto 78:geo:10.2196859,45.5433769
END:VEVENT
BEGIN:VEVENT
DTSTART;TZID=Europe/Rome:20250529T193000
DTEND;TZID=Europe/Rome:20250529T230000
DTSTAMP:20260422T182311
CREATED:20250523T143120Z
LAST-MODIFIED:20250523T143120Z
UID:10000639-1748547000-1748559600@bresciagiovani.it
SUMMARY:Contro/Verso
DESCRIPTION:Evento performativo multimediale organizzato dagli studenti dei profili DAMS del terzo anno dell’Università Cattolica del Sacro Cuore. \nContro/Verso: varie esperienze che ci appartengono. Come le viviamo? Quali sono i nostri punti di vista? \nCinque performance dal vivo\, una dopo l’altra\, dove corpo\, suono e immagini si intrecciano per dare vita a un’esperienza immersiva e provocatoria. Ogni performance esplora temi complessi e attuali\, come l’ansia da prestazione\, la ricerca di accettazione del sé\, e il conflitto interiore nel rapporto con il proprio io. In un contesto dove intelligenza artificiale e realtà si mescolano\, il pubblico è sfidato a confrontarsi con la propria rassegnazione di fronte a un mondo in continua trasformazione. L’obiettivo non è solo quello di svelare la verità\, ma anche di domandarsi: come possiamo trovare la meraviglia in un mondo che sembra sempre più distante dalla nostra percezione di autenticità? \nIl percorso emozionale si svolge come un viaggio in un paese delle meraviglie\, dove il confine tra realtà e illusione diventa labile\, e ogni passo ci invita a riflettere sul nostro rapporto con la verità e la nostra identità. \nUn mix di arte\, pensiero e multimedialità che ti farà riflettere\, emozionare e\, forse\, cambiare prospettiva. Non è solo uno spettacolo: è un invito a prendere parte al confronto.
URL:https://bresciagiovani.it/evento/contro-verso/
LOCATION:Museo Diocesano\, via Gasparo da Salò 13\, Brescia\, BS\, 25122\, Italia
CATEGORIES:Voglia di fare
ATTACH;FMTTYPE=image/jpeg:https://bresciagiovani.it/wp-content/uploads/2025/05/496946482_1138399424755490_6178409259866223507_n.jpg
GEO:45.541146;10.2206527
X-APPLE-STRUCTURED-LOCATION;VALUE=URI;X-ADDRESS=Museo Diocesano via Gasparo da Salò 13 Brescia BS 25122 Italia;X-APPLE-RADIUS=500;X-TITLE=via Gasparo da Salò 13:geo:10.2206527,45.541146
END:VEVENT
END:VCALENDAR