BEGIN:VCALENDAR
VERSION:2.0
PRODID:-//Brescia Giovani - ECPv6.15.17.1//NONSGML v1.0//EN
CALSCALE:GREGORIAN
METHOD:PUBLISH
X-ORIGINAL-URL:https://bresciagiovani.it
X-WR-CALDESC:Eventi per Brescia Giovani
REFRESH-INTERVAL;VALUE=DURATION:PT1H
X-Robots-Tag:noindex
X-PUBLISHED-TTL:PT1H
BEGIN:VTIMEZONE
TZID:Europe/Rome
BEGIN:DAYLIGHT
TZOFFSETFROM:+0100
TZOFFSETTO:+0200
TZNAME:CEST
DTSTART:20240331T010000
END:DAYLIGHT
BEGIN:STANDARD
TZOFFSETFROM:+0200
TZOFFSETTO:+0100
TZNAME:CET
DTSTART:20241027T010000
END:STANDARD
BEGIN:DAYLIGHT
TZOFFSETFROM:+0100
TZOFFSETTO:+0200
TZNAME:CEST
DTSTART:20250330T010000
END:DAYLIGHT
BEGIN:STANDARD
TZOFFSETFROM:+0200
TZOFFSETTO:+0100
TZNAME:CET
DTSTART:20251026T010000
END:STANDARD
BEGIN:DAYLIGHT
TZOFFSETFROM:+0100
TZOFFSETTO:+0200
TZNAME:CEST
DTSTART:20260329T010000
END:DAYLIGHT
BEGIN:STANDARD
TZOFFSETFROM:+0200
TZOFFSETTO:+0100
TZNAME:CET
DTSTART:20261025T010000
END:STANDARD
BEGIN:DAYLIGHT
TZOFFSETFROM:+0100
TZOFFSETTO:+0200
TZNAME:CEST
DTSTART:20270328T010000
END:DAYLIGHT
BEGIN:STANDARD
TZOFFSETFROM:+0200
TZOFFSETTO:+0100
TZNAME:CET
DTSTART:20271031T010000
END:STANDARD
END:VTIMEZONE
BEGIN:VEVENT
DTSTART;TZID=Europe/Rome:20251117T080000
DTEND;TZID=Europe/Rome:20260303T170000
DTSTAMP:20260420T090643
CREATED:20251110T102401Z
LAST-MODIFIED:20251229T151315Z
UID:10000652-1763366400-1772557200@bresciagiovani.it
SUMMARY:Material for an Exhibition. Storie\, memorie e lotte dalla Palestina e dal Mediterraneo
DESCRIPTION:La mostra\, curata da Sara Alberani e promossa dal Comune di Brescia e da Fondazione Brescia Musei\, con il patrocinio di Amnesty Italia e CCDC Cooperativa Cattolico – democratica di Cultura\, riunisce opere di artisti provenienti da zone di conflitto\, in particolare dalla regione mediorientale oggi segnata da divisioni e frammentazioni – da Gaza alla Cisgiordania fino al Libano – che hanno vissuto in prima persona la quotidianità della guerra e dell’esilio. A portare la loro testimonianza artistica e culturale gli artisti internazionali palestinesi Mohammed Al-Hawajri\, Dina Mattar e Emily Jacir (Leone d’oro a Venezia nel 2007) e l’artista libanese Haig Aivazian. \n🎟️ Durante i giorni del Festival della Pace di Brescia\, dall’8 al 23 novembre 2025\, tutti i visitatori potranno visitare gratuitamente la mostra.
URL:https://bresciagiovani.it/evento/material-for-an-exhibition-storie-memorie-e-lotte-dalla-palestina-e-dal-mediterraneo/
LOCATION:Museo di Santa Giulia\, via Musei 81/b\, Brescia\, 25121\, Italia
ATTACH;FMTTYPE=image/gif:https://bresciagiovani.it/wp-content/uploads/2025/12/banner-640x480px.gif
GEO:45.5394205;10.227916
X-APPLE-STRUCTURED-LOCATION;VALUE=URI;X-ADDRESS=Museo di Santa Giulia via Musei 81/b Brescia 25121 Italia;X-APPLE-RADIUS=500;X-TITLE=via Musei 81/b:geo:10.227916,45.5394205
END:VEVENT
BEGIN:VEVENT
DTSTART;TZID=Europe/Rome:20251202T183000
DTEND;TZID=Europe/Rome:20251202T200000
DTSTAMP:20260420T090643
CREATED:20251114T155828Z
LAST-MODIFIED:20251114T155828Z
UID:10000655-1764700200-1764705600@bresciagiovani.it
SUMMARY:Immagina. Antidoti contro la rassegnazione.
DESCRIPTION:Presentazione del libro con l’autore Stefano Laffi\n\nDal sociologo che ha messo i giovani al centro della scena\, un nuovo libro per combattere l’apatia\, la stagnazione di idee\, pensieri\, stati d’animo; per reagire a un presente asfittico e riprenderci il futuro. Una via d’uscita c’è: (re)imparare a immaginare.\n\nCon l’autore del libro Stefano Laffi\, sociologo\, e Anna Frattini\, Assessora alle Politiche Giovanili ed Educative del Comune di Brescia.\nIn collaborazione con Nuova Libreria Rinascita
URL:https://bresciagiovani.it/evento/immagina-antidoti-contro-la-rassegnazione/
LOCATION:Informagiovani Brescia\, via Moretto 78\, Brescia\, BS\, 25122\, Italia
ATTACH;FMTTYPE=image/jpeg:https://bresciagiovani.it/wp-content/uploads/2025/12/https___cdn.evbuc_.com_images_1170307517_439545738142_1_original.jpg
ORGANIZER;CN="Informagiovani Brescia":MAILTO:infogiovani@comune.brescia.it
GEO:45.5433769;10.2196859
X-APPLE-STRUCTURED-LOCATION;VALUE=URI;X-ADDRESS=Informagiovani Brescia via Moretto 78 Brescia BS 25122 Italia;X-APPLE-RADIUS=500;X-TITLE=via Moretto 78:geo:10.2196859,45.5433769
END:VEVENT
BEGIN:VEVENT
DTSTART;TZID=Europe/Rome:20251203T183000
DTEND;TZID=Europe/Rome:20251203T183000
DTSTAMP:20260420T090643
CREATED:20251002T181754Z
LAST-MODIFIED:20251002T181754Z
UID:10000426-1764786600-1764786600@bresciagiovani.it
SUMMARY:Orientarsi
DESCRIPTION:Come accompagnare i figli e le figlie nella scelta della Scuola Secondaria di Secondo Grado \n  \nUn ciclo di incontri nelle scuole dedicati ai genitori: \n 1 ottobre ore 18.00 – IC Nord2\, Auditorium scuola Virgilio\n15 ottobre ore 18.30 – IC Centro3\, scuola Mompiani\n20 ottobre ore 18.00 – IC Sud3\, scuola Bettinzoli\n5 novembre ore 18.30 – IC Est1\, auditorium scuola Verrocchio\n10 novembre ore 16.30 – IC Ovest1\, scuola Romanino\n12 novembre ore 19.00 – IC Sud2\, scuola Franchi\n3 dicembre ore 18.30 – online
URL:https://bresciagiovani.it/evento/orientarsi/
CATEGORIES:mutui
ATTACH;FMTTYPE=image/jpeg:https://bresciagiovani.it/wp-content/uploads/2025/12/incontri-scuole_pdf-interattivo.jpg
ORGANIZER;CN="Informagiovani Brescia":MAILTO:infogiovani@comune.brescia.it
END:VEVENT
BEGIN:VEVENT
DTSTART;TZID=Europe/Rome:20251204T180000
DTEND;TZID=Europe/Rome:20251204T200000
DTSTAMP:20260420T090643
CREATED:20251128T163242Z
LAST-MODIFIED:20251128T163242Z
UID:10000656-1764871200-1764878400@bresciagiovani.it
SUMMARY:contiamo per CONTARE
DESCRIPTION:Percorso di educazione economica e finanziaria per la cittadinanza \nCon Michela Calculli\, divulgatrice finanziaria impegnata in progetti educativi orientati prevalentemente alla formazione di soggetti fragilizzati (donne\, giovani\, migrnti\, ecc) in collaborazione con enti del Terzo Settore. \nGiovedì 4 dicembre\, ore 18: informazione su gestione del debito e accesso al credito: gap di genere\, mutui e finanziamenti\, sovraindebitamento.
URL:https://bresciagiovani.it/evento/contiamo-per-contare/
LOCATION:Brescia\, Italia
CATEGORIES:cleanup
ATTACH;FMTTYPE=image/jpeg:https://bresciagiovani.it/wp-content/uploads/2025/12/IMG-20251128-WA0017.jpg
END:VEVENT
BEGIN:VEVENT
DTSTART;TZID=Europe/Rome:20251210T180000
DTEND;TZID=Europe/Rome:20251210T200000
DTSTAMP:20260420T090643
CREATED:20251002T180952Z
LAST-MODIFIED:20251002T180952Z
UID:10000425-1765389600-1765396800@bresciagiovani.it
SUMMARY:I cambiamenti nel mondo del lavoro
DESCRIPTION:Un incontro in cui ci si confronta sui cambiamenti lavorativi e le nuove prospettive occupazionali. \n  \nIn collaborazione con il Centro per l’impiego di Brescia \n  \n 
URL:https://bresciagiovani.it/evento/i-cambiamenti-nel-mondo-del-lavoro/
LOCATION:Informagiovani Brescia\, via Moretto 78\, Brescia\, BS\, 25122\, Italia
CATEGORIES:scuola
ATTACH;FMTTYPE=image/jpeg:https://bresciagiovani.it/wp-content/uploads/2025/12/lavoro_banner.jpg
GEO:45.5433769;10.2196859
X-APPLE-STRUCTURED-LOCATION;VALUE=URI;X-ADDRESS=Informagiovani Brescia via Moretto 78 Brescia BS 25122 Italia;X-APPLE-RADIUS=500;X-TITLE=via Moretto 78:geo:10.2196859,45.5433769
END:VEVENT
BEGIN:VEVENT
DTSTART;TZID=Europe/Rome:20251215T183000
DTEND;TZID=Europe/Rome:20251215T200000
DTSTAMP:20260420T090643
CREATED:20251209T140522Z
LAST-MODIFIED:20251209T140522Z
UID:10000657-1765823400-1765828800@bresciagiovani.it
SUMMARY:Il giornalismo spiegato alle giovani generazioni
DESCRIPTION:Parliamo di news e giornalismo con Chiara Piotto\, giornalista specializzata in giornalismo digitale\, host Will & Chora\, conduttrice del podcast “The Essential“. \nLunedì 15 dicembre \nDalle 18.30 alle 20.00 \nAula Magna di Medicina | Università degli Studi di Brescia\, Viale Europa n.11 \nUn evento del progetto “Brescia: Futuro ai Giovani”\, finanziato dal settore Politiche Giovanili ed Educative del Comune di Brescia. In collaborazione con Cooperativa Sinapsi.
URL:https://bresciagiovani.it/evento/il-giornalismo-spiegato-alle-giovani-generazioni/
LOCATION:Università degli Studi di Brescia – facoltà di Medicina\, viale Europa\, 11\, Brescia\, 25123\, Italia
ORGANIZER;CN="Piastra Pendolina":MAILTO:gabriele.angoscini@ilcalabrone.org
GEO:45.5606677;10.232099
X-APPLE-STRUCTURED-LOCATION;VALUE=URI;X-ADDRESS=Università degli Studi di Brescia – facoltà di Medicina viale Europa 11 Brescia 25123 Italia;X-APPLE-RADIUS=500;X-TITLE=viale Europa\, 11:geo:10.232099,45.5606677
END:VEVENT
BEGIN:VEVENT
DTSTART;TZID=Europe/Rome:20251216T170000
DTEND;TZID=Europe/Rome:20251216T180000
DTSTAMP:20260420T090643
CREATED:20251211T170826Z
LAST-MODIFIED:20251211T170826Z
UID:10000658-1765904400-1765908000@bresciagiovani.it
SUMMARY:Facciamo Economia!
DESCRIPTION:Fondi pensione: un investimento per il proprio futuro.\nPerché aprirne uno\, come funzionano\, come si stipulano\, quali sono i più adatti alle mie esigenze? \nConfrontiamo diverse soluzioni insieme a esperti del settore. \nQuando: Martedì 16 dicembre   Dalle 17.00 alle 18.30\nDove: Informagiovani Brescia\, via Moretto n.78 | MO.CA – Centro per le nuove culture \nIn collaborazione con: \n\nAndrea Nistolini\, Responsabile Ufficio Lavoro del Patronato ACLI di Brescia\nMichele Boninsegna\, Responsabile Gestione Fondi Pensione Itas Vita\nFilippo Malinverni\, Ispettore ITAS\n\nEvento gratuito e dedicato a giovani dai 14 ai 30 anni. È consigliata la prenotazione.
URL:https://bresciagiovani.it/evento/facciamo-economia-3/
LOCATION:Informagiovani Brescia\, via Moretto 78\, Brescia\, BS\, 25122\, Italia
ATTACH;FMTTYPE=image/png:https://bresciagiovani.it/wp-content/uploads/2025/12/Facciamo-economia.png
GEO:45.5433769;10.2196859
X-APPLE-STRUCTURED-LOCATION;VALUE=URI;X-ADDRESS=Informagiovani Brescia via Moretto 78 Brescia BS 25122 Italia;X-APPLE-RADIUS=500;X-TITLE=via Moretto 78:geo:10.2196859,45.5433769
END:VEVENT
BEGIN:VEVENT
DTSTART;TZID=Europe/Rome:20251217T170000
DTEND;TZID=Europe/Rome:20251217T190000
DTSTAMP:20260420T090643
CREATED:20251114T155248Z
LAST-MODIFIED:20251114T155248Z
UID:10000654-1765990800-1765998000@bresciagiovani.it
SUMMARY:Sex Education - Sessualità: cosa significa?
DESCRIPTION:Incontri per parlare di identità\, piacere e relazioni\n\n\n\nRelazioni\, identità sessuale\, piacere sono ancora dei temi taboo ma tu vuoi saperne di più?!\nQuesta è l’occasione perfetta per parlarne e confrontarti! \nParleremo di benessere\, identità sessuale\, orientamento\, ascolto attivo e consenso\, con attività coinvolgenti e interattive – mai imbarazzanti! – con l’obiettivo di promuovere consapevolezza e facilitare l’apertura al dialogo su tematiche spesso complesse e delicate. \nCALENDARIO INCONTRI:\n\nMercoledì 17 dicembre – RELAZIONI: ASCOLTO\, CONSENSO E RISPETTO\n\nDalle 17.00 alle 19.00 \nCon Greta Tosoni (lei/they)\, consulente sessuale e sex coach certificata \nPuoi venire a tutti gli appuntamenti o anche solo a uno. \n— \nGli incontri sono gratuiti e dedicate a giovani dai 13 ai 25 anni.
URL:https://bresciagiovani.it/evento/sex-education-sessualita-cosa-significa/
LOCATION:Piastra Pendolina\, via Ragazzi del ’99 5\, Brescia\, 25127\, Italia
CATEGORIES:sex
ATTACH;FMTTYPE=image/jpeg:https://bresciagiovani.it/wp-content/uploads/2025/12/https___cdn.evbuc_.com_images_1160775333_439545738142_1_original.jpg
ORGANIZER;CN="Piastra Pendolina":MAILTO:gabriele.angoscini@ilcalabrone.org
GEO:45.5669587;10.207454
X-APPLE-STRUCTURED-LOCATION;VALUE=URI;X-ADDRESS=Piastra Pendolina via Ragazzi del ’99 5 Brescia 25127 Italia;X-APPLE-RADIUS=500;X-TITLE=via Ragazzi del ’99 5:geo:10.207454,45.5669587
END:VEVENT
BEGIN:VEVENT
DTSTART;TZID=Europe/Rome:20260130T160000
DTEND;TZID=Europe/Rome:20260130T180000
DTSTAMP:20260420T090643
CREATED:20260126T092731Z
LAST-MODIFIED:20260126T092731Z
UID:10000811-1769788800-1769796000@bresciagiovani.it
SUMMARY:KRISIS- DENTRO E FUORI
DESCRIPTION:Dentro e fuori è un laboratorio rivolto agli studenti e alle studentesse delle scuole superiori che propone un percorso di esplorazione interiore e di confronto con il mondo esterno. Nato all’interno della mostra Krisis\, affronta temi legati alle fragilità della società contemporanea come comunicazione\, identità\, relazioni e vulnerabilità emotiva. Attraverso le opere degli artisti\, il laboratorio diventa uno spazio esperienziale di riflessione\, dialogo e consapevolezza personale e collettiva. \nQuando: Venerdì 30 gennaio/ Dalle 16 alle 18 \nDove: Sala esposizione palazzo MOCA e Informagiovani \n  \nIscrizioni: al seguente link \nEvento gratuito rivolte ai ragazzi e alle ragazze delle scuole superiori
URL:https://bresciagiovani.it/evento/krisis-dentro-e-fuori/
CATEGORIES:arte
ATTACH;FMTTYPE=image/png:https://bresciagiovani.it/wp-content/uploads/2026/01/DEF_BANNER_Laboratorio.png
END:VEVENT
BEGIN:VEVENT
DTSTART;TZID=Europe/Rome:20260205T100000
DTEND;TZID=Europe/Rome:20260215T230000
DTSTAMP:20260420T090643
CREATED:20260110T150002Z
LAST-MODIFIED:20260113T145922Z
UID:10000620-1770285600-1771196400@bresciagiovani.it
SUMMARY:Festival Trame
DESCRIPTION:Anche quest’anno Teatro Telaio organizza il Festival Teatrale Internazionale Trame con una particolare sezione Trame Young Adult\, dedicata al pubblico di adolescenti e giovani che mette a disposizione spettacoli dai linguaggi innovativi\, esperienze performative inusuali\, proposte per pubblici che raramente vengono coinvolti al di fuori dell’ambito strettamente scolastico. \nIl programma può essere consultato qui: https://www.festivaltrame.it/cat-programma/young-adult/ \nPrenotazione obbligatoria. \nSpeciale promozione!!! \nPer ottenere il biglietto ridotto (6 euro)\, è necessario inserire nel box “Hai altro da segnalare” il codice INFORMAGIOVANI! \nGli spettacoli a cui si applica questa promozione sono i seguenti: \ngio 5 febbraio ore 18.30 presso Teatro Borsoni- Sala Castri – Di Giulietta e del suo Romeo – Ore 18:30 \n\nven 6 febbraio ore 18.30 presso Teatro Borsoni- Sala Castri – Liberatutti\n\nmerc 11 febbraio ore 18.30 presso Teatro Borsoni- Sala Castri – ENTRATA LIBERA – Creature. Di piante\, insetti e umano cuore  \ngio 12 febbraio ore 18.30 presso Teatro Borsoni – Sala L’Isola che non c’è – Corpi di seta. Una storia per tutte e tutti  \nven 13 febbraio ore 18.30 presso Teatro Borsoni – Sala L’Isola che non c’è – Spaidermen \n 
URL:https://bresciagiovani.it/evento/https-www-festivaltrame-it/
LOCATION:Comune di Brescia\, Brescia
CATEGORIES:teatro
ATTACH;FMTTYPE=image/jpeg:https://bresciagiovani.it/wp-content/uploads/2025/01/A5-trame.jpg
ORGANIZER;CN="Teatro Telaio":MAILTO:segreteria@teatrotelaio.it
END:VEVENT
BEGIN:VEVENT
DTSTART;TZID=Europe/Rome:20260206T100000
DTEND;TZID=Europe/Rome:20260206T120000
DTSTAMP:20260420T090643
CREATED:20260205T184636Z
LAST-MODIFIED:20260311T120614Z
UID:10000819-1770372000-1770379200@bresciagiovani.it
SUMMARY:Informagiovani in biblioteca: PREALPINO
DESCRIPTION:Informagiovani e tutti i suoi servizi saranno alla biblioteca Prealpino: troverai info su scuola\, lavoro\, estero e tempo libero. \nQuando: \n-venerdì 6 e 20 febbraio dalle 10 alle 12; \n-venerdì 6 e 20 marzo dalle 10 alle 12; \nNon serve prenotare né iscriversi\, ti aspettiamo direttamente in biblioteca per un incontro personalizzato con le nostre operatrici.
URL:https://bresciagiovani.it/evento/informagiovani-in-biblioteca-prealpino/2026-02-06/
LOCATION:Biblioteca Prealpino\, Via Colle di Cadibona\,\, Brescia\, Italia
ATTACH;FMTTYPE=image/jpeg:https://bresciagiovani.it/wp-content/uploads/2026/02/IMG-20260205-WA0011.jpg
ORGANIZER;CN="Informagiovani Brescia":MAILTO:infogiovani@comune.brescia.it
END:VEVENT
BEGIN:VEVENT
DTSTART;TZID=Europe/Rome:20260206T140000
DTEND;TZID=Europe/Rome:20260206T160000
DTSTAMP:20260420T090643
CREATED:20260205T185437Z
LAST-MODIFIED:20260205T185437Z
UID:10000823-1770386400-1770393600@bresciagiovani.it
SUMMARY:Informagiovani in biblioteca: PARCO GALLO
DESCRIPTION:Informagiovani e tutti i suoi servizi saranno alla biblioteca Parco Gallo: troverai info su scuola\, lavoro\, estero e tempo libero. \nQuando: \n-venerdì 6 e 20 febbraio dalle 14 alle 16; \n-venerdì 6 e 20 marzo dalle 16 alle 18; \nNon serve prenotare nè iscriversi\, ti aspettiamo direttamente in biblioteca per un incontro personalizzato con le nostre operatrici.
URL:https://bresciagiovani.it/evento/informagiovani-in-biblioteca-parco-gallo/2026-02-06/
LOCATION:Biblioteca Parco Gallo\, Via Privata de Vitalis\, 46\, Brescia\, Italia
ATTACH;FMTTYPE=image/jpeg:https://bresciagiovani.it/wp-content/uploads/2026/02/IMG-20260205-WA0009.jpg
ORGANIZER;CN="Informagiovani Brescia":MAILTO:infogiovani@comune.brescia.it
END:VEVENT
BEGIN:VEVENT
DTSTART;TZID=Europe/Rome:20260212T150000
DTEND;TZID=Europe/Rome:20260212T170000
DTSTAMP:20260420T090643
CREATED:20260205T190037Z
LAST-MODIFIED:20260205T190037Z
UID:10000827-1770908400-1770915600@bresciagiovani.it
SUMMARY:Informagiovani in biblioteca: UAU
DESCRIPTION:Informagiovani e tutti i suoi servizi saranno alla biblioteca UAU: troverai info su scuola\, lavoro\, estero e tempo libero. \nQuando: \n-giovedì 12 febbraio dalle 15 alle 17; \n-martedì 24 febbraio dalle 14 alle 16; \n-giovedì 12 marzo dalle 16 alle 18; \n-martedì 24 marzo dalle 15 alle 17 \nNon serve prenotare nè iscriversi\, ti aspettiamo direttamente in biblioteca per un incontro personalizzato con le nostre operatrici.
URL:https://bresciagiovani.it/evento/informagiovani-in-biblioteca-uau/2026-02-12/
LOCATION:UAU\, Via Milano 105\, Brescia\, Italia
ATTACH;FMTTYPE=image/jpeg:https://bresciagiovani.it/wp-content/uploads/2026/02/IMG-20260205-WA0010.jpg
ORGANIZER;CN="Informagiovani Brescia":MAILTO:infogiovani@comune.brescia.it
END:VEVENT
BEGIN:VEVENT
DTSTART;TZID=Europe/Rome:20260218T183000
DTEND;TZID=Europe/Rome:20260218T203000
DTSTAMP:20260420T090643
CREATED:20260206T153155Z
LAST-MODIFIED:20260206T153155Z
UID:10000831-1771439400-1771446600@bresciagiovani.it
SUMMARY:DECORA CHE TI PASSA
DESCRIPTION:Laboratorio di decorazione ceramica con TraMeArte\n\n\n\nUn’esperienza rilassante e stimolante\, dove arte e benessere si incontrano.\nUn momento creativo per riscoprire il piacere di rallentare\, usare la propria fantasia e ritrovare equilibrio\, decorando un pezzo unico di ceramica. \nMercoledì 18 febbraio \nDalle 18.30 alle 20.30 \nInformagiovani Brescia\, via Moretto 78 | MO.CA – centro per le nuove culture \nIn collaborazione con Chiara Beschi di TraMeArte.
URL:https://bresciagiovani.it/evento/decora-che-ti-passa/
LOCATION:Informagiovani Brescia\, via Moretto 78\, Brescia\, BS\, 25122\, Italia
CATEGORIES:benessere
ATTACH;FMTTYPE=image/jpeg:https://bresciagiovani.it/wp-content/uploads/2026/02/https___cdn.evbuc_.com_images_1175340559_439545738142_1_original.jpg
ORGANIZER;CN="Informagiovani Brescia":MAILTO:infogiovani@comune.brescia.it
GEO:45.5433769;10.2196859
X-APPLE-STRUCTURED-LOCATION;VALUE=URI;X-ADDRESS=Informagiovani Brescia via Moretto 78 Brescia BS 25122 Italia;X-APPLE-RADIUS=500;X-TITLE=via Moretto 78:geo:10.2196859,45.5433769
END:VEVENT
BEGIN:VEVENT
DTSTART;TZID=Europe/Rome:20260219T150000
DTEND;TZID=Europe/Rome:20260219T170000
DTSTAMP:20260420T090643
CREATED:20260205T184018Z
LAST-MODIFIED:20260205T184018Z
UID:10000816-1771513200-1771520400@bresciagiovani.it
SUMMARY:Informagiovani in BIBLIOTECA BUFFALORA
DESCRIPTION:Informagiovani e tutti i suoi servizi saranno alla biblioteca Buffalora: troverai info su scuola\, lavoro\, estero e tempo libero. \nQuando: \n-giovedì 19 febbraio dalle 15 alle 17; \n-mercoledì 4 marzo dalle 10 alle 12; \n-giovedì 19 marzo dalle 15 alle 17 \nNon serve prenotare nè iscriversi\, ti aspettiamo direttamente in biblioteca per un incontro personalizzato con le nostre operatrici.
URL:https://bresciagiovani.it/evento/informagiovani-in-biblioteca-buffalora/2026-02-19/
LOCATION:biblioteca buffalora\, via delle Bettole 101\, Brescia\, Italia
ATTACH;FMTTYPE=image/jpeg:https://bresciagiovani.it/wp-content/uploads/2026/02/IMG-20260205-WA0008.jpg
ORGANIZER;CN="Informagiovani Brescia":MAILTO:infogiovani@comune.brescia.it
END:VEVENT
BEGIN:VEVENT
DTSTART;TZID=Europe/Rome:20260305T183000
DTEND;TZID=Europe/Rome:20260305T203000
DTSTAMP:20260420T090643
CREATED:20250902T153124Z
LAST-MODIFIED:20260302T105013Z
UID:10000642-1772735400-1772742600@bresciagiovani.it
SUMMARY:Tandem Linguistici
DESCRIPTION:Inglese\, tedesco\, spagnolo e francese\, italiano: cinque lingue europee per cinque tavoli di conversazione! \nScegli la lingua in cui ti vuoi esercitare e prenota il tuo posto! \nIn collaborazione con ESN Brescia – Erasmus Student Network \nIscrizione gratuita su https://tandemlingue.eventbrite.it \nTi aspettiamo Giovedì 5 marzo dalle ore 18.30 \nI Tandem Linguistici sono appuntamenti gratuiti dedicati a giovani dai 14 ai 30 anni.
URL:https://bresciagiovani.it/evento/tandem-linguistici-3/
LOCATION:Informagiovani Brescia\, via Moretto 78\, Brescia\, BS\, 25122\, Italia
ATTACH;FMTTYPE=image/jpeg:https://bresciagiovani.it/wp-content/uploads/2025/09/tandem_generale.jpg
ORGANIZER;CN="Informagiovani Brescia":MAILTO:infogiovani@comune.brescia.it
GEO:45.5433769;10.2196859
X-APPLE-STRUCTURED-LOCATION;VALUE=URI;X-ADDRESS=Informagiovani Brescia via Moretto 78 Brescia BS 25122 Italia;X-APPLE-RADIUS=500;X-TITLE=via Moretto 78:geo:10.2196859,45.5433769
END:VEVENT
BEGIN:VEVENT
DTSTART;TZID=Europe/Rome:20260312T183000
DTEND;TZID=Europe/Rome:20260312T203000
DTSTAMP:20260420T090643
CREATED:20260302T110047Z
LAST-MODIFIED:20260325T094412Z
UID:10000832-1773340200-1773347400@bresciagiovani.it
SUMMARY:ASSOCIAZIONI IN CANTIERE
DESCRIPTION:Stai pensando di costruire un’associazione con il tuo gruppo ma non sai da dove partire? \n\n\nCon CSV Brescia ti aiutiamo a partire! \nDue incontri formativi dove parleremo di riforma del Terzo Settore\, redazione dello statuto\, contabilità e parte amministrativa\, spiegato facile facile! \nGiovedì 12 marzo e mercoledì 25 marzo \nDalle 18.30 alle 20.30 \nInformagiovani Brescia\,via Moretto n.78 | MO.CA – Centro per le nuove culture \nIn collaborazione con il Centro Servizi Volontariato Brescia \nEvento gratuito dedicato a giovani dai 16 ai 30 anni. È richiesta l’iscrizione entro l’8 marzo.
URL:https://bresciagiovani.it/evento/associazioni-in-cantiere/2026-03-12/
LOCATION:Informagiovani Brescia\, via Moretto 78\, Brescia\, BS\, 25122\, Italia
CATEGORIES:appuntamenti vari
ATTACH;FMTTYPE=image/jpeg:https://bresciagiovani.it/wp-content/uploads/2026/03/IMG-20260210-WA0003.jpg
GEO:45.5433769;10.2196859
X-APPLE-STRUCTURED-LOCATION;VALUE=URI;X-ADDRESS=Informagiovani Brescia via Moretto 78 Brescia BS 25122 Italia;X-APPLE-RADIUS=500;X-TITLE=via Moretto 78:geo:10.2196859,45.5433769
END:VEVENT
BEGIN:VEVENT
DTSTART;TZID=Europe/Rome:20260325T163000
DTEND;TZID=Europe/Rome:20260325T183000
DTSTAMP:20260420T090643
CREATED:20260309T095346Z
LAST-MODIFIED:20260309T095346Z
UID:10000834-1774456200-1774463400@bresciagiovani.it
SUMMARY:Conosci il Servizio Civile Universale?
DESCRIPTION:Comincia una nuova esperienza con il Servizio Civile Universale! \n\n\nUn incontro dedicato alla scoperta del servizio civile a Brescia\, in Italia o all’estero. \nApriti a nuove esperienze e incontra i promotori di progetti di Servizio Civile attivi a Brescia. \nScopri come funziona\, come candidarti e come scegliere il progetto giusto per te!
URL:https://bresciagiovani.it/evento/conosci-il-servizio-civile-universale-2/
LOCATION:Informagiovani Brescia\, via Moretto 78\, Brescia\, BS\, 25122\, Italia
CATEGORIES:Servizio Civile Universale
ATTACH;FMTTYPE=image/jpeg:https://bresciagiovani.it/wp-content/uploads/2026/02/Servizio-Civile_Banner-1.jpg
ORGANIZER;CN="Informagiovani Brescia":MAILTO:infogiovani@comune.brescia.it
GEO:45.5433769;10.2196859
X-APPLE-STRUCTURED-LOCATION;VALUE=URI;X-ADDRESS=Informagiovani Brescia via Moretto 78 Brescia BS 25122 Italia;X-APPLE-RADIUS=500;X-TITLE=via Moretto 78:geo:10.2196859,45.5433769
END:VEVENT
BEGIN:VEVENT
DTSTART;TZID=Europe/Rome:20260326T183000
DTEND;TZID=Europe/Rome:20260326T203000
DTSTAMP:20260420T090643
CREATED:20250214T110027Z
LAST-MODIFIED:20260302T105250Z
UID:10000627-1774549800-1774557000@bresciagiovani.it
SUMMARY:Aperitivi in English
DESCRIPTION:Cambia modo di allenare l’inglese: gioca\, metti alla prova le tue conoscenze e chiacchiera in buona compagnia\, con i ragazzi e le ragazze di ESN Brescia – Erasmus Student Network \nAdatto ad ogni livello di inglese!Evento dedicato a giovani dai 14 ai 30 anni. \nPer iscrizioni: https://www.eventbrite.it/e/biglietti-aperitivi-in-english-1616964346889?aff=erelexpmlt&_gl=1*yw57mg*_up*MQ..*_ga*MjA2ODgzNjQzOS4xNzU5NzM5MTE4*_ga_TQVES5V6SH*czE3NTk3MzkxMTgkbzEkZzAkdDE3NTk3MzkxMTgkajYwJGwwJGgw
URL:https://bresciagiovani.it/evento/aperitivi-in-english-3/
LOCATION:Informagiovani Brescia\, via Moretto 78\, Brescia\, BS\, 25122\, Italia
ATTACH;FMTTYPE=image/jpeg:https://bresciagiovani.it/wp-content/uploads/2025/12/ape_generale1.jpg
ORGANIZER;CN="Informagiovani Brescia":MAILTO:infogiovani@comune.brescia.it
GEO:45.5433769;10.2196859
X-APPLE-STRUCTURED-LOCATION;VALUE=URI;X-ADDRESS=Informagiovani Brescia via Moretto 78 Brescia BS 25122 Italia;X-APPLE-RADIUS=500;X-TITLE=via Moretto 78:geo:10.2196859,45.5433769
END:VEVENT
BEGIN:VEVENT
DTSTART;TZID=Europe/Rome:20260417T130000
DTEND;TZID=Europe/Rome:20260419T180000
DTSTAMP:20260420T090643
CREATED:20260309T100141Z
LAST-MODIFIED:20260325T142940Z
UID:10000835-1776430800-1776621600@bresciagiovani.it
SUMMARY:Eco dei Passi
DESCRIPTION:Vivi un’esperienza unica tra natura\, condivisione e riflessione insieme ad altri giovani come te.\nCosa faremo? \n• Rallentare\, ascoltare\, connettersi \n• Camminare insieme: trekking nella natura e cammino introspettivo\, personale e di gruppo \n• Attività esperienziali e laboratori creativi \n• Riscoprirsi con occhi nuovi partendo dal territorio \n• Trovare benessere con sé stessi e con gli altri \nQUANDO: 17 – 18 – 19 aprile 2026 \nDal primo pomeriggio di venerdì 17 aprile a domenica 19 aprile \nDOVE: Rifugio Gnari de Mompià\, valle di Mompiano\, Brescia \nTi accompagneranno Martina Corti e Giada Pinton Fusari\, pedagogiste\, appassionate di natura\, ambiente e outdoor \nPer info: 3313046816 \n  \nEvento gratuito dedicato a giovani dai 20 ai 30 anni. Solo 15 posti disponibili! È richiesta l’iscrizione entro il 10 aprile. \n  \nIl progetto “Eco dei Passi” è realizzato con il contributo del bando “PowerBank“\, finanziato in misura paritetica da Fondazione della Comunità Bresciana e “Brescia: Futuro ai Giovani”
URL:https://bresciagiovani.it/evento/eco-dei-passi/
LOCATION:Rifugio Gnari de Mompià\, Via Valle di Mompiano\, Brescia
CATEGORIES:appuntamenti vari
ATTACH;FMTTYPE=image/png:https://bresciagiovani.it/wp-content/uploads/2026/03/Immagine-2026-03-09-105937.png
END:VEVENT
END:VCALENDAR